{"text_format":"1","workbook":"xlsx","n_sheets":8,"sheets":["Instructions","EXAMPLE ONLY","CF9 OSCE","Extract Fees","Extract Expenses","Extract Mileage","Standards","Workings"],"not_rendered":{"charts":0,"images":1,"macros":1,"external_links":0,"defined_names":16,"comments":2,"pivot_tables":0},"unopened":[],"bounds":{"document_bytes":16777216,"sheet_cells":100000,"rows_first":2000,"rows_last":500,"rows_between":2000,"halvings":0,"cell_chars":16384,"cell_head_chars":4096},"cells_cut":0,"cells_raw":0,"read":"whole","date_system":"1900"}

{"sheet":"Instructions","index":0,"n_rows":9,"n_cols":2,"rows_kept":9,"cut":false,"hidden":true,"merged":[[2,1,2,11],[4,1,4,11],[6,1,6,11],[8,1,8,11]]}
[" Independent End-point Assessor claim"]
[]
[1,"Section A - input the following:\n\nFirst name, surname\nVendor number (this starts with a '2')\n\n* Address details (should only be completed if the information has changed)"]
[]
[2,"Section B - input the following:\n\nBank details (should only be completed if the information has changed)\nSort/swift code (should only be completed if the information has changed)\nAccount name/number (should only be completed if the information has changed)\n\nDay rate (select from the drop down list)"]
[]
[3,"Section C - input the following:\n\n* The date the activity took place\n* Select the EPA standard from the drop down list\n* Select the assessment method that best describes the activity\n* Select the delivery method from the drop down list and indicate if this is a resit \n* The enrolment number of the learner being assessed. Only enter 1 enrolment number per row\n* The name of the apprentice assessed\n* The time taken to complete the activity. Enter this in the form of hours taken\n* Indicate if the EPA is complete i.e. no assessment methods are outstanding for the learner and a result is due to be issued. Select 'Yes' against the final assessment method only\n* Enter any notes that are relevant to the activity or better describe the assessment method being undertaken\n\nDefinitions\nFace to face means: interaction with an individual apprentice which can be conducted on-site or in a virtual environment (e.g. discussion, interview observation)\n\nRemote means: where no interaction is required with an individual apprentice (e.g. portfolio, project etc)"]
[]
[4,"Section D - input the following:\n\n* The date the expense took place\n* Selct the type of expense from the drop down list\n* Enter any notes that are relevant to the expense e.g. supplier, reference number, description of service\n* The value of the expense being claimed\n\nFor mileage claims input the following:\n\n* The date the travel took place\n* The number of miles travelled\n* Enter any notes you feel are relevant to the claim e.g. From Wimbledon to Croydon"]

{"sheet":"EXAMPLE ONLY","index":1,"n_rows":74,"n_cols":12,"rows_kept":74,"cut":false,"hidden":false,"merged":[[9,2,9,3],[9,6,9,9],[1,1,2,6],[1,7,2,9],[3,1,3,7],[8,2,8,3],[8,6,8,9],[10,6,10,9],[11,2,11,3],[11,6,11,9],[12,6,12,9],[13,2,13,3],[13,6,13,9],[40,3,40,5],[14,2,14,3],[14,6,14,9],[15,2,15,3],[16,2,16,3],[17,2,17,3],[21,3,21,4],[35,3,35,5],[36,3,36,5],[37,3,37,5],[38,3,38,5],[39,3,39,5],[30,3,30,4],[31,3,31,4],[55,3,55,4],[41,3,41,5],[42,3,42,5],[43,3,43,5],[44,3,44,5],[45,3,45,5],[49,3,49,4],[50,3,50,4],[51,3,51,4],[52,3,52,4],[53,3,53,4],[54,3,54,4],[72,5,72,6],[56,3,56,4],[57,3,57,4],[58,3,58,4],[59,3,59,4],[62,1,65,3],[67,2,67,3],[7,11,15,13],[73,2,73,3],[73,5,73,6],[22,3,22,4],[23,3,23,4],[24,3,24,4],[25,3,25,4],[26,3,26,4],[27,3,27,4],[28,3,28,4],[29,3,29,4],[70,2,70,3],[70,5,70,6],[71,2,71,3],[71,5,71,6],[72,2,72,3]]}
[]
[null,"Claim form CF9 - for OSCE only",null,null,null,null,null,"v1.0"]
[]
[null,"Please email this form, by the 17th of the month to veterinarynursing@cityandguilds.com "]
[null,"Receipts of expenses incurred in connection with each activity, must be attached to your email."]
[]
[null,"Section A: Assessor details",null,null,null,"Section B: Bank details"]
[null,null,null,null,null,null,null,null,null,null,null,"THIS IS AN EXAMPLE. PLEASE CLICK THE 'CF9 OSCE' TAB FOR A BLANK TEMPLATE."]
[null,"First name:","Joe ",null,null,"Bank name: "]
[null,"Surname:","Bloggs",null,null,"Address line 1:"]
[null,null,null,null,null,"Address line 2:"]
[null,"Vendor number:",123456,null,null,"Branch name: "]
[null,null,null,null,null,"Sort/Swiftcode: "]
[null,"Address line 1:",null,null,null,"Account name: "]
[null,"Address line 2:",null,null,null,"Account number: "]
[null,"City:"]
[null,"County:"]
[null,"Postcode:"]
[]
[null,"Section C: Fees (700420)"]
[]
[null,"Activity Date","Centre Name","Notes",null,"Fee"]
[null,"2019-11-29","Hartpury","Examiner - DI07",null,210]
[null,"2019-11-30","Hartpury","Examiner - DI07",null,210]
[null,"2019-11-01","Hartpury","Examiner - DI07",null,210]
[]
[]
[]
[]
[]
[]
[]
[]
[null,"Section D: Expenses (700460)"]
[]
[null,"Expense Date","Type of Expense claim","Notes",null,null,"Amount"]
[null,"2019-11-29","Accommodation","Hotel",null,null,74]
[null,"2019-11-30","Accommodation","Hotel",null,null,72.5]
[null,"2019-11-29","Subsistence","Lunch",null,null,6]
[null,"2019-11-30","Subsistence","Lunch",null,null,5.5]
[null,"2019-11-01","Subsistence","Lunch",null,null,3.69]
[]
[]
[]
[]
[]
[]
[null,"Mileage (700460)"]
[]
[null,"Mileage Date","No. of miles","Notes",null,"Rate per mile","Amount"]
[null,"2019-11-29",108,"From EC1A 9DE to Hotel",null,0.45,{"$f":"F51*C51","v":48.6}]
[null,"2019-11-01",108,"From Hotel to EC1A 9DE",null,0.45,{"$f":"F52*C52","v":48.6}]
[null,null,null,null,null,0.45,0]
[null,null,null,null,null,0.45,0]
[null,null,null,null,null,0.45,0]
[null,null,null,null,null,0.45,0]
[null,null,null,null,null,0.45,0]
[null,null,null,null,null,0.45,0]
[null,null,null,null,null,0.45,0]
[null,null,null,null,null,0.45,0]
[]
[null,"Total claim"]
[null,"I certify that the total expenses shown here were actually and necessarily incurred by me, solely on City & Guilds' business.",null,null,"Fees total ",{"$f":"SUM(F23:F32)","v":630}]
[null,null,null,null,"Expenses total",{"$f":"SUM(G37:G47)","v":161.69}]
[null,null,null,null,"Mileage total ",{"$f":"SUM(G51:G61)","v":97.2}]
[null,null,null,null,"Grand total",{"$f":"SUM(F$63:F$65)","v":888.8900000000001}]
[]
[null,"Signed:","J Bloggs",null,"Date (dd/mm/yy):","2020-01-27"]
[]
[null,"For City & Guilds use"]
[null,"Cost centre:",10238,null,"Reference no.:",{"$f":"IF(AND(C9<>\"\",C10<>\"\",F68<>\"\"),LEFT(C9,1)&LEFT(C10,1)&F68,\"\")","v":"JB43857"}]
[null,"Internal order no.",null,null,"Debit note:"]
[null,"CO signature:",null,null,"CO signature date:"]
[null,"AO signature:",null,null,"AO signature date:"]

{"sheet":"CF9 OSCE","index":2,"n_rows":74,"n_cols":8,"rows_kept":74,"cut":false,"hidden":false,"merged":[[9,2,9,3],[9,6,9,9],[10,6,10,9],[11,2,11,3],[1,1,2,6],[1,7,2,9],[3,1,3,7],[8,2,8,3],[8,6,8,9],[11,6,11,9],[12,6,12,9],[13,2,13,3],[13,6,13,9],[14,2,14,3],[14,6,14,9],[29,3,29,4],[15,2,15,3],[16,2,16,3],[17,2,17,3],[21,3,21,4],[22,3,22,4],[23,3,23,4],[24,3,24,4],[25,3,25,4],[26,3,26,4],[27,3,27,4],[28,3,28,4],[44,3,44,5],[30,3,30,4],[31,3,31,4],[35,3,35,5],[36,3,36,5],[37,3,37,5],[38,3,38,5],[39,3,39,5],[40,3,40,5],[41,3,41,5],[42,3,42,5],[43,3,43,5],[59,3,59,4],[45,3,45,5],[49,3,49,4],[50,3,50,4],[51,3,51,4],[52,3,52,4],[53,3,53,4],[54,3,54,4],[55,3,55,4],[56,3,56,4],[57,3,57,4],[58,3,58,4],[72,2,72,3],[72,5,72,6],[73,2,73,3],[73,5,73,6],[62,1,65,3],[67,2,67,3],[70,2,70,3],[70,5,70,6],[71,2,71,3],[71,5,71,6]]}
[]
[null,"Claim form CF9 - for OSCE only",null,null,null,null,null,"v1.0"]
[]
[null,"Please email this form, by the 17th of the month to veterinarynursing@cityandguilds.com "]
[null,"Receipts of expenses incurred in connection with each activity, must be attached to your email."]
[]
[null,"Section A: Assessor details",null,null,null,"Section B: Bank details"]
[]
[null,"First name:",null,null,null,"Bank name: "]
[null,"Surname:",null,null,null,"Address line 1:"]
[null,null,null,null,null,"Address line 2:"]
[null,"Vendor number:",null,null,null,"Branch name: "]
[null,null,null,null,null,"Sort/Swiftcode: "]
[null,"Address line 1:",null,null,null,"Account name: "]
[null,"Address line 2:",null,null,null,"Account number: "]
[null,"City:"]
[null,"County:"]
[null,"Postcode:"]
[]
[null,"Section C: Fees (700420)"]
[]
[null,"Activity Date","Centre Name","Notes",null,"Fee"]
[]
[]
[]
[]
[]
[]
[]
[]
[]
[]
[]
[null,"Section D: Expenses (700460)"]
[]
[null,"Expense Date","Type of Expense claim","Notes",null,null,"Amount"]
[]
[]
[]
[]
[]
[]
[]
[]
[]
[]
[]
[null,"Mileage (700460)"]
[]
[null,"Mileage Date","No. of miles","Notes",null,"Rate per mile","Amount"]
[null,null,null,null,null,0.45,{"$f":"F51*C51","v":0}]
[null,null,null,null,null,0.45,{"$f":"F52*C52","v":0}]
[null,null,null,null,null,0.45,0]
[null,null,null,null,null,0.45,0]
[null,null,null,null,null,0.45,0]
[null,null,null,null,null,0.45,0]
[null,null,null,null,null,0.45,0]
[null,null,null,null,null,0.45,0]
[null,null,null,null,null,0.45,0]
[null,null,null,null,null,0.45,0]
[]
[null,"Total claim"]
[null,"I certify that the total expenses shown here were actually and necessarily incurred by me, solely on City & Guilds' business.",null,null,"Fees total ",{"$f":"SUM(F23:F32)","v":0}]
[null,null,null,null,"Expenses total",{"$f":"SUM(G37:G47)","v":0}]
[null,null,null,null,"Mileage total ",{"$f":"SUM(G51:G61)","v":0}]
[null,null,null,null,"Grand total",{"$f":"SUM(F$63:F$65)","v":0}]
[]
[null,"Signed:",null,null,"Date (dd/mm/yy):"]
[]
[null,"For City & Guilds use"]
[null,"Cost centre:",10238,null,"Reference no.:",{"$f":"IF(AND(C9<>\"\",C10<>\"\",F68<>\"\"),LEFT(C9,1)&LEFT(C10,1)&F68,\"\")","v":""}]
[null,"Internal order no.",null,null,"Debit note:"]
[null,"CO signature:",null,null,"CO signature date:"]
[null,"AO signature:",null,null,"AO signature date:"]

{"sheet":"Extract Fees","index":3,"n_rows":32,"n_cols":22,"rows_kept":32,"cut":false,"hidden":true,"merged":[[0,8,0,21]]}
[null,null,null,null,null,null,null,null,"End-point assessment details"]
["Vendor ","Day rate","Ref no:","Submission date","CO sig date","AO sig date","Fin Year","Fin Period","Activity Date","Standard","Std code","Component","Delivery method","Enrolment No. ","Apprentice name","Hours","EPA complete?","Placeholder 1","Placeholder 2","Placeholder 3","Notes","Amount"]
[{"$f":"#REF!","v":{"$error":"#REF!"}},{"$f":"#REF!","v":{"$error":"#REF!"}},{"$f":"#REF!","v":{"$error":"#REF!"}},{"$f":"#REF!","v":{"$error":"#REF!"}},{"$f":"#REF!","v":{"$error":"#REF!"}},{"$f":"#REF!","v":{"$error":"#REF!"}},{"$f":"IF(AND($F3>=Workings!$R$2,'Extract Fees'!$F3<=Workings!$S$2),Workings!$Q$2,IF(AND($F3>=Workings!$R$3,'Extract Fees'!$F3<=Workings!$S$3),Workings!$Q$3,IF(AND($F3>=Workings!$R$4,'Extract Fees'!$F3<=Workings!$S$4),Workings!$Q$4,IF(AND($F3>=Workings!$R$5,'Extract Fees'!$F3<=Workings!$S$5),Workings!$Q$5,IF(AND($F3>=Workings!$R$6,'Extract Fees'!$F3<=Workings!$S$6),Workings!$Q$6,IF(AND($F3>=Workings!$R$7,'Extract Fees'!$F3<=Workings!$S$7),Workings!$Q$7,IF(AND($F3>=Workings!$R$8,'Extract Fees'!$F3<=Workings!$S$8),Workings!$Q$8,IF(AND($F3>=Workings!$R$9,'Extract Fees'!$F3<=Workings!$S$9),Workings!$Q$9))))))))","v":{"$error":"#REF!"}},{"$f":"VLOOKUP(MONTH(F3),Workings!N:O,2,0)","v":{"$error":"#REF!"}},{"$f":"#REF!","v":{"$error":"#REF!"}},{"$f":"#REF!","v":{"$error":"#REF!"}},{"$f":"LEFT(J3,7)","v":{"$error":"#REF!"}},{"$f":"#REF!","v":{"$error":"#REF!"}},{"$f":"#REF!","v":{"$error":"#REF!"}},{"$f":"#REF!","v":{"$error":"#REF!"}},{"$f":"#REF!","v":{"$error":"#REF!"}},{"$f":"#REF!","v":{"$error":"#REF!"}},{"$f":"#REF!","v":{"$error":"#REF!"}},{"$f":"#REF!","v":{"$error":"#REF!"}},{"$f":"#REF!","v":{"$error":"#REF!"}},{"$f":"#REF!","v":{"$error":"#REF!"}},{"$f":"#REF!","v":{"$error":"#REF!"}},{"$f":"#REF!","v":{"$error":"#REF!"}}]
[{"$f":"#REF!","v":{"$error":"#REF!"}},{"$f":"#REF!","v":{"$error":"#REF!"}},{"$f":"#REF!","v":{"$error":"#REF!"}},{"$f":"#REF!","v":{"$error":"#REF!"}},{"$f":"#REF!","v":{"$error":"#REF!"}},{"$f":"#REF!","v":{"$error":"#REF!"}},{"$f":"IF(AND($F4>=Workings!$R$2,'Extract Fees'!$F4<=Workings!$S$2),Workings!$Q$2,IF(AND($F4>=Workings!$R$3,'Extract Fees'!$F4<=Workings!$S$3),Workings!$Q$3,IF(AND($F4>=Workings!$R$4,'Extract Fees'!$F4<=Workings!$S$4),Workings!$Q$4,IF(AND($F4>=Workings!$R$5,'Extract Fees'!$F4<=Workings!$S$5),Workings!$Q$5,IF(AND($F4>=Workings!$R$6,'Extract Fees'!$F4<=Workings!$S$6),Workings!$Q$6,IF(AND($F4>=Workings!$R$7,'Extract Fees'!$F4<=Workings!$S$7),Workings!$Q$7,IF(AND($F4>=Workings!$R$8,'Extract Fees'!$F4<=Workings!$S$8),Workings!$Q$8,IF(AND($F4>=Workings!$R$9,'Extract Fees'!$F4<=Workings!$S$9),Workings!$Q$9))))))))","v":{"$error":"#REF!"}},{"$f":"VLOOKUP(MONTH(F4),Workings!N:O,2,0)","v":{"$error":"#REF!"}},{"$f":"#REF!","v":{"$error":"#REF!"}},{"$f":"#REF!","v":{"$error":"#REF!"}},{"$f":"LEFT(J4,7)","v":{"$error":"#REF!"}},{"$f":"#REF!","v":{"$error":"#REF!"}},{"$f":"#REF!","v":{"$error":"#REF!"}},{"$f":"#REF!","v":{"$error":"#REF!"}},{"$f":"#REF!","v":{"$error":"#REF!"}},{"$f":"#REF!","v":{"$error":"#REF!"}},{"$f":"#REF!","v":{"$error":"#REF!"}},{"$f":"#REF!","v":{"$error":"#REF!"}},{"$f":"#REF!","v":{"$error":"#REF!"}},{"$f":"#REF!","v":{"$error":"#REF!"}},{"$f":"#REF!","v":{"$error":"#REF!"}},{"$f":"#REF!","v":{"$error":"#REF!"}}]
[{"$f":"#REF!","v":{"$error":"#REF!"}},{"$f":"#REF!","v":{"$error":"#REF!"}},{"$f":"#REF!","v":{"$error":"#REF!"}},{"$f":"#REF!","v":{"$error":"#REF!"}},{"$f":"#REF!","v":{"$error":"#REF!"}},{"$f":"#REF!","v":{"$error":"#REF!"}},{"$f":"IF(AND($F5>=Workings!$R$2,'Extract Fees'!$F5<=Workings!$S$2),Workings!$Q$2,IF(AND($F5>=Workings!$R$3,'Extract Fees'!$F5<=Workings!$S$3),Workings!$Q$3,IF(AND($F5>=Workings!$R$4,'Extract Fees'!$F5<=Workings!$S$4),Workings!$Q$4,IF(AND($F5>=Workings!$R$5,'Extract Fees'!$F5<=Workings!$S$5),Workings!$Q$5,IF(AND($F5>=Workings!$R$6,'Extract Fees'!$F5<=Workings!$S$6),Workings!$Q$6,IF(AND($F5>=Workings!$R$7,'Extract Fees'!$F5<=Workings!$S$7),Workings!$Q$7,IF(AND($F5>=Workings!$R$8,'Extract Fees'!$F5<=Workings!$S$8),Workings!$Q$8,IF(AND($F5>=Workings!$R$9,'Extract Fees'!$F5<=Workings!$S$9),Workings!$Q$9))))))))","v":{"$error":"#REF!"}},{"$f":"VLOOKUP(MONTH(F5),Workings!N:O,2,0)","v":{"$error":"#REF!"}},{"$f":"#REF!","v":{"$error":"#REF!"}},{"$f":"#REF!","v":{"$error":"#REF!"}},{"$error":"#REF!"},{"$f":"#REF!","v":{"$error":"#REF!"}},{"$f":"#REF!","v":{"$error":"#REF!"}},{"$f":"#REF!","v":{"$error":"#REF!"}},{"$f":"#REF!","v":{"$error":"#REF!"}},{"$f":"#REF!","v":{"$error":"#REF!"}},{"$f":"#REF!","v":{"$error":"#REF!"}},{"$f":"#REF!","v":{"$error":"#REF!"}},{"$f":"#REF!","v":{"$error":"#REF!"}},{"$f":"#REF!","v":{"$error":"#REF!"}},{"$f":"#REF!","v":{"$error":"#REF!"}},{"$f":"#REF!","v":{"$error":"#REF!"}}]
[{"$f":"#REF!","v":{"$error":"#REF!"}},{"$f":"#REF!","v":{"$error":"#REF!"}},{"$f":"#REF!","v":{"$error":"#REF!"}},{"$f":"#REF!","v":{"$error":"#REF!"}},{"$f":"#REF!","v":{"$error":"#REF!"}},{"$f":"#REF!","v":{"$error":"#REF!"}},{"$f":"IF(AND($F6>=Workings!$R$2,'Extract Fees'!$F6<=Workings!$S$2),Workings!$Q$2,IF(AND($F6>=Workings!$R$3,'Extract Fees'!$F6<=Workings!$S$3),Workings!$Q$3,IF(AND($F6>=Workings!$R$4,'Extract Fees'!$F6<=Workings!$S$4),Workings!$Q$4,IF(AND($F6>=Workings!$R$5,'Extract Fees'!$F6<=Workings!$S$5),Workings!$Q$5,IF(AND($F6>=Workings!$R$6,'Extract Fees'!$F6<=Workings!$S$6),Workings!$Q$6,IF(AND($F6>=Workings!$R$7,'Extract Fees'!$F6<=Workings!$S$7),Workings!$Q$7,IF(AND($F6>=Workings!$R$8,'Extract Fees'!$F6<=Workings!$S$8),Workings!$Q$8,IF(AND($F6>=Workings!$R$9,'Extract Fees'!$F6<=Workings!$S$9),Workings!$Q$9))))))))","v":{"$error":"#REF!"}},{"$f":"VLOOKUP(MONTH(F6),Workings!N:O,2,0)","v":{"$error":"#REF!"}},{"$f":"#REF!","v":{"$error":"#REF!"}},{"$f":"#REF!","v":{"$error":"#REF!"}},{"$error":"#REF!"},{"$f":"#REF!","v":{"$error":"#REF!"}},{"$f":"#REF!","v":{"$error":"#REF!"}},{"$f":"#REF!","v":{"$error":"#REF!"}},{"$f":"#REF!","v":{"$error":"#REF!"}},{"$f":"#REF!","v":{"$error":"#REF!"}},{"$f":"#REF!","v":{"$error":"#REF!"}},{"$f":"#REF!","v":{"$error":"#REF!"}},{"$f":"#REF!","v":{"$error":"#REF!"}},{"$f":"#REF!","v":{"$error":"#REF!"}},{"$f":"#REF!","v":{"$error":"#REF!"}},{"$f":"#REF!","v":{"$error":"#REF!"}}]
[{"$f":"#REF!","v":{"$error":"#REF!"}},{"$f":"#REF!","v":{"$error":"#REF!"}},{"$f":"#REF!","v":{"$error":"#REF!"}},{"$f":"#REF!","v":{"$error":"#REF!"}},{"$f":"#REF!","v":{"$error":"#REF!"}},{"$f":"#REF!","v":{"$error":"#REF!"}},{"$f":"IF(AND($F7>=Workings!$R$2,'Extract Fees'!$F7<=Workings!$S$2),Workings!$Q$2,IF(AND($F7>=Workings!$R$3,'Extract Fees'!$F7<=Workings!$S$3),Workings!$Q$3,IF(AND($F7>=Workings!$R$4,'Extract Fees'!$F7<=Workings!$S$4),Workings!$Q$4,IF(AND($F7>=Workings!$R$5,'Extract Fees'!$F7<=Workings!$S$5),Workings!$Q$5,IF(AND($F7>=Workings!$R$6,'Extract Fees'!$F7<=Workings!$S$6),Workings!$Q$6,IF(AND($F7>=Workings!$R$7,'Extract Fees'!$F7<=Workings!$S$7),Workings!$Q$7,IF(AND($F7>=Workings!$R$8,'Extract Fees'!$F7<=Workings!$S$8),Workings!$Q$8,IF(AND($F7>=Workings!$R$9,'Extract Fees'!$F7<=Workings!$S$9),Workings!$Q$9))))))))","v":{"$error":"#REF!"}},{"$f":"VLOOKUP(MONTH(F7),Workings!N:O,2,0)","v":{"$error":"#REF!"}},{"$f":"#REF!","v":{"$error":"#REF!"}},{"$f":"#REF!","v":{"$error":"#REF!"}},{"$error":"#REF!"},{"$f":"#REF!","v":{"$error":"#REF!"}},{"$f":"#REF!","v":{"$error":"#REF!"}},{"$f":"#REF!","v":{"$error":"#REF!"}},{"$f":"#REF!","v":{"$error":"#REF!"}},{"$f":"#REF!","v":{"$error":"#REF!"}},{"$f":"#REF!","v":{"$error":"#REF!"}},{"$f":"#REF!","v":{"$error":"#REF!"}},{"$f":"#REF!","v":{"$error":"#REF!"}},{"$f":"#REF!","v":{"$error":"#REF!"}},{"$f":"#REF!","v":{"$error":"#REF!"}},{"$f":"#REF!","v":{"$error":"#REF!"}}]
[{"$f":"#REF!","v":{"$error":"#REF!"}},{"$f":"#REF!","v":{"$error":"#REF!"}},{"$f":"#REF!","v":{"$error":"#REF!"}},{"$f":"#REF!","v":{"$error":"#REF!"}},{"$f":"#REF!","v":{"$error":"#REF!"}},{"$f":"#REF!","v":{"$error":"#REF!"}},{"$f":"IF(AND($F8>=Workings!$R$2,'Extract Fees'!$F8<=Workings!$S$2),Workings!$Q$2,IF(AND($F8>=Workings!$R$3,'Extract Fees'!$F8<=Workings!$S$3),Workings!$Q$3,IF(AND($F8>=Workings!$R$4,'Extract Fees'!$F8<=Workings!$S$4),Workings!$Q$4,IF(AND($F8>=Workings!$R$5,'Extract Fees'!$F8<=Workings!$S$5),Workings!$Q$5,IF(AND($F8>=Workings!$R$6,'Extract Fees'!$F8<=Workings!$S$6),Workings!$Q$6,IF(AND($F8>=Workings!$R$7,'Extract Fees'!$F8<=Workings!$S$7),Workings!$Q$7,IF(AND($F8>=Workings!$R$8,'Extract Fees'!$F8<=Workings!$S$8),Workings!$Q$8,IF(AND($F8>=Workings!$R$9,'Extract Fees'!$F8<=Workings!$S$9),Workings!$Q$9))))))))","v":{"$error":"#REF!"}},{"$f":"VLOOKUP(MONTH(F8),Workings!N:O,2,0)","v":{"$error":"#REF!"}},{"$f":"#REF!","v":{"$error":"#REF!"}},{"$f":"#REF!","v":{"$error":"#REF!"}},{"$error":"#REF!"},{"$f":"#REF!","v":{"$error":"#REF!"}},{"$f":"#REF!","v":{"$error":"#REF!"}},{"$f":"#REF!","v":{"$error":"#REF!"}},{"$f":"#REF!","v":{"$error":"#REF!"}},{"$f":"#REF!","v":{"$error":"#REF!"}},{"$f":"#REF!","v":{"$error":"#REF!"}},{"$f":"#REF!","v":{"$error":"#REF!"}},{"$f":"#REF!","v":{"$error":"#REF!"}},{"$f":"#REF!","v":{"$error":"#REF!"}},{"$f":"#REF!","v":{"$error":"#REF!"}},{"$f":"#REF!","v":{"$error":"#REF!"}}]
[{"$f":"#REF!","v":{"$error":"#REF!"}},{"$f":"#REF!","v":{"$error":"#REF!"}},{"$f":"#REF!","v":{"$error":"#REF!"}},{"$f":"#REF!","v":{"$error":"#REF!"}},{"$f":"#REF!","v":{"$error":"#REF!"}},{"$f":"#REF!","v":{"$error":"#REF!"}},{"$f":"IF(AND($F9>=Workings!$R$2,'Extract Fees'!$F9<=Workings!$S$2),Workings!$Q$2,IF(AND($F9>=Workings!$R$3,'Extract Fees'!$F9<=Workings!$S$3),Workings!$Q$3,IF(AND($F9>=Workings!$R$4,'Extract Fees'!$F9<=Workings!$S$4),Workings!$Q$4,IF(AND($F9>=Workings!$R$5,'Extract Fees'!$F9<=Workings!$S$5),Workings!$Q$5,IF(AND($F9>=Workings!$R$6,'Extract Fees'!$F9<=Workings!$S$6),Workings!$Q$6,IF(AND($F9>=Workings!$R$7,'Extract Fees'!$F9<=Workings!$S$7),Workings!$Q$7,IF(AND($F9>=Workings!$R$8,'Extract Fees'!$F9<=Workings!$S$8),Workings!$Q$8,IF(AND($F9>=Workings!$R$9,'Extract Fees'!$F9<=Workings!$S$9),Workings!$Q$9))))))))","v":{"$error":"#REF!"}},{"$f":"VLOOKUP(MONTH(F9),Workings!N:O,2,0)","v":{"$error":"#REF!"}},{"$f":"#REF!","v":{"$error":"#REF!"}},{"$f":"#REF!","v":{"$error":"#REF!"}},{"$error":"#REF!"},{"$f":"#REF!","v":{"$error":"#REF!"}},{"$f":"#REF!","v":{"$error":"#REF!"}},{"$f":"#REF!","v":{"$error":"#REF!"}},{"$f":"#REF!","v":{"$error":"#REF!"}},{"$f":"#REF!","v":{"$error":"#REF!"}},{"$f":"#REF!","v":{"$error":"#REF!"}},{"$f":"#REF!","v":{"$error":"#REF!"}},{"$f":"#REF!","v":{"$error":"#REF!"}},{"$f":"#REF!","v":{"$error":"#REF!"}},{"$f":"#REF!","v":{"$error":"#REF!"}},{"$f":"#REF!","v":{"$error":"#REF!"}}]
[{"$f":"#REF!","v":{"$error":"#REF!"}},{"$f":"#REF!","v":{"$error":"#REF!"}},{"$f":"#REF!","v":{"$error":"#REF!"}},{"$f":"#REF!","v":{"$error":"#REF!"}},{"$f":"#REF!","v":{"$error":"#REF!"}},{"$f":"#REF!","v":{"$error":"#REF!"}},{"$f":"IF(AND($F10>=Workings!$R$2,'Extract Fees'!$F10<=Workings!$S$2),Workings!$Q$2,IF(AND($F10>=Workings!$R$3,'Extract Fees'!$F10<=Workings!$S$3),Workings!$Q$3,IF(AND($F10>=Workings!$R$4,'Extract Fees'!$F10<=Workings!$S$4),Workings!$Q$4,IF(AND($F10>=Workings!$R$5,'Extract Fees'!$F10<=Workings!$S$5),Workings!$Q$5,IF(AND($F10>=Workings!$R$6,'Extract Fees'!$F10<=Workings!$S$6),Workings!$Q$6,IF(AND($F10>=Workings!$R$7,'Extract Fees'!$F10<=Workings!$S$7),Workings!$Q$7,IF(AND($F10>=Workings!$R$8,'Extract Fees'!$F10<=Workings!$S$8),Workings!$Q$8,IF(AND($F10>=Workings!$R$9,'Extract Fees'!$F10<=Workings!$S$9),Workings!$Q$9))))))))","v":{"$error":"#REF!"}},{"$f":"VLOOKUP(MONTH(F10),Workings!N:O,2,0)","v":{"$error":"#REF!"}},{"$f":"#REF!","v":{"$error":"#REF!"}},{"$f":"#REF!","v":{"$error":"#REF!"}},{"$error":"#REF!"},{"$f":"#REF!","v":{"$error":"#REF!"}},{"$f":"#REF!","v":{"$error":"#REF!"}},{"$f":"#REF!","v":{"$error":"#REF!"}},{"$f":"#REF!","v":{"$error":"#REF!"}},{"$f":"#REF!","v":{"$error":"#REF!"}},{"$f":"#REF!","v":{"$error":"#REF!"}},{"$f":"#REF!","v":{"$error":"#REF!"}},{"$f":"#REF!","v":{"$error":"#REF!"}},{"$f":"#REF!","v":{"$error":"#REF!"}},{"$f":"#REF!","v":{"$error":"#REF!"}},{"$f":"#REF!","v":{"$error":"#REF!"}}]
[{"$f":"#REF!","v":{"$error":"#REF!"}},{"$f":"#REF!","v":{"$error":"#REF!"}},{"$f":"#REF!","v":{"$error":"#REF!"}},{"$f":"#REF!","v":{"$error":"#REF!"}},{"$f":"#REF!","v":{"$error":"#REF!"}},{"$f":"#REF!","v":{"$error":"#REF!"}},{"$f":"IF(AND($F11>=Workings!$R$2,'Extract Fees'!$F11<=Workings!$S$2),Workings!$Q$2,IF(AND($F11>=Workings!$R$3,'Extract Fees'!$F11<=Workings!$S$3),Workings!$Q$3,IF(AND($F11>=Workings!$R$4,'Extract Fees'!$F11<=Workings!$S$4),Workings!$Q$4,IF(AND($F11>=Workings!$R$5,'Extract Fees'!$F11<=Workings!$S$5),Workings!$Q$5,IF(AND($F11>=Workings!$R$6,'Extract Fees'!$F11<=Workings!$S$6),Workings!$Q$6,IF(AND($F11>=Workings!$R$7,'Extract Fees'!$F11<=Workings!$S$7),Workings!$Q$7,IF(AND($F11>=Workings!$R$8,'Extract Fees'!$F11<=Workings!$S$8),Workings!$Q$8,IF(AND($F11>=Workings!$R$9,'Extract Fees'!$F11<=Workings!$S$9),Workings!$Q$9))))))))","v":{"$error":"#REF!"}},{"$f":"VLOOKUP(MONTH(F11),Workings!N:O,2,0)","v":{"$error":"#REF!"}},{"$f":"#REF!","v":{"$error":"#REF!"}},{"$f":"#REF!","v":{"$error":"#REF!"}},{"$error":"#REF!"},{"$f":"#REF!","v":{"$error":"#REF!"}},{"$f":"#REF!","v":{"$error":"#REF!"}},{"$f":"#REF!","v":{"$error":"#REF!"}},{"$f":"#REF!","v":{"$error":"#REF!"}},{"$f":"#REF!","v":{"$error":"#REF!"}},{"$f":"#REF!","v":{"$error":"#REF!"}},{"$f":"#REF!","v":{"$error":"#REF!"}},{"$f":"#REF!","v":{"$error":"#REF!"}},{"$f":"#REF!","v":{"$error":"#REF!"}},{"$f":"#REF!","v":{"$error":"#REF!"}},{"$f":"#REF!","v":{"$error":"#REF!"}}]
[{"$f":"#REF!","v":{"$error":"#REF!"}},{"$f":"#REF!","v":{"$error":"#REF!"}},{"$f":"#REF!","v":{"$error":"#REF!"}},{"$f":"#REF!","v":{"$error":"#REF!"}},{"$f":"#REF!","v":{"$error":"#REF!"}},{"$f":"#REF!","v":{"$error":"#REF!"}},{"$f":"IF(AND($F12>=Workings!$R$2,'Extract Fees'!$F12<=Workings!$S$2),Workings!$Q$2,IF(AND($F12>=Workings!$R$3,'Extract Fees'!$F12<=Workings!$S$3),Workings!$Q$3,IF(AND($F12>=Workings!$R$4,'Extract Fees'!$F12<=Workings!$S$4),Workings!$Q$4,IF(AND($F12>=Workings!$R$5,'Extract Fees'!$F12<=Workings!$S$5),Workings!$Q$5,IF(AND($F12>=Workings!$R$6,'Extract Fees'!$F12<=Workings!$S$6),Workings!$Q$6,IF(AND($F12>=Workings!$R$7,'Extract Fees'!$F12<=Workings!$S$7),Workings!$Q$7,IF(AND($F12>=Workings!$R$8,'Extract Fees'!$F12<=Workings!$S$8),Workings!$Q$8,IF(AND($F12>=Workings!$R$9,'Extract Fees'!$F12<=Workings!$S$9),Workings!$Q$9))))))))","v":{"$error":"#REF!"}},{"$f":"VLOOKUP(MONTH(F12),Workings!N:O,2,0)","v":{"$error":"#REF!"}},{"$f":"#REF!","v":{"$error":"#REF!"}},{"$f":"#REF!","v":{"$error":"#REF!"}},{"$error":"#REF!"},{"$f":"#REF!","v":{"$error":"#REF!"}},{"$f":"#REF!","v":{"$error":"#REF!"}},{"$f":"#REF!","v":{"$error":"#REF!"}},{"$f":"#REF!","v":{"$error":"#REF!"}},{"$f":"#REF!","v":{"$error":"#REF!"}},{"$f":"#REF!","v":{"$error":"#REF!"}},{"$f":"#REF!","v":{"$error":"#REF!"}},{"$f":"#REF!","v":{"$error":"#REF!"}},{"$f":"#REF!","v":{"$error":"#REF!"}},{"$f":"#REF!","v":{"$error":"#REF!"}},{"$f":"#REF!","v":{"$error":"#REF!"}}]
[{"$f":"#REF!","v":{"$error":"#REF!"}},{"$f":"#REF!","v":{"$error":"#REF!"}},{"$f":"#REF!","v":{"$error":"#REF!"}},{"$f":"#REF!","v":{"$error":"#REF!"}},{"$f":"#REF!","v":{"$error":"#REF!"}},{"$f":"#REF!","v":{"$error":"#REF!"}},{"$f":"IF(AND($F13>=Workings!$R$2,'Extract Fees'!$F13<=Workings!$S$2),Workings!$Q$2,IF(AND($F13>=Workings!$R$3,'Extract Fees'!$F13<=Workings!$S$3),Workings!$Q$3,IF(AND($F13>=Workings!$R$4,'Extract Fees'!$F13<=Workings!$S$4),Workings!$Q$4,IF(AND($F13>=Workings!$R$5,'Extract Fees'!$F13<=Workings!$S$5),Workings!$Q$5,IF(AND($F13>=Workings!$R$6,'Extract Fees'!$F13<=Workings!$S$6),Workings!$Q$6,IF(AND($F13>=Workings!$R$7,'Extract Fees'!$F13<=Workings!$S$7),Workings!$Q$7,IF(AND($F13>=Workings!$R$8,'Extract Fees'!$F13<=Workings!$S$8),Workings!$Q$8,IF(AND($F13>=Workings!$R$9,'Extract Fees'!$F13<=Workings!$S$9),Workings!$Q$9))))))))","v":{"$error":"#REF!"}},{"$f":"VLOOKUP(MONTH(F13),Workings!N:O,2,0)","v":{"$error":"#REF!"}},{"$f":"#REF!","v":{"$error":"#REF!"}},{"$f":"#REF!","v":{"$error":"#REF!"}},{"$error":"#REF!"},{"$f":"#REF!","v":{"$error":"#REF!"}},{"$f":"#REF!","v":{"$error":"#REF!"}},{"$f":"#REF!","v":{"$error":"#REF!"}},{"$f":"#REF!","v":{"$error":"#REF!"}},{"$f":"#REF!","v":{"$error":"#REF!"}},{"$f":"#REF!","v":{"$error":"#REF!"}},{"$f":"#REF!","v":{"$error":"#REF!"}},{"$f":"#REF!","v":{"$error":"#REF!"}},{"$f":"#REF!","v":{"$error":"#REF!"}},{"$f":"#REF!","v":{"$error":"#REF!"}},{"$f":"#REF!","v":{"$error":"#REF!"}}]
[{"$f":"#REF!","v":{"$error":"#REF!"}},{"$f":"#REF!","v":{"$error":"#REF!"}},{"$f":"#REF!","v":{"$error":"#REF!"}},{"$f":"#REF!","v":{"$error":"#REF!"}},{"$f":"#REF!","v":{"$error":"#REF!"}},{"$f":"#REF!","v":{"$error":"#REF!"}},{"$f":"IF(AND($F14>=Workings!$R$2,'Extract Fees'!$F14<=Workings!$S$2),Workings!$Q$2,IF(AND($F14>=Workings!$R$3,'Extract Fees'!$F14<=Workings!$S$3),Workings!$Q$3,IF(AND($F14>=Workings!$R$4,'Extract Fees'!$F14<=Workings!$S$4),Workings!$Q$4,IF(AND($F14>=Workings!$R$5,'Extract Fees'!$F14<=Workings!$S$5),Workings!$Q$5,IF(AND($F14>=Workings!$R$6,'Extract Fees'!$F14<=Workings!$S$6),Workings!$Q$6,IF(AND($F14>=Workings!$R$7,'Extract Fees'!$F14<=Workings!$S$7),Workings!$Q$7,IF(AND($F14>=Workings!$R$8,'Extract Fees'!$F14<=Workings!$S$8),Workings!$Q$8,IF(AND($F14>=Workings!$R$9,'Extract Fees'!$F14<=Workings!$S$9),Workings!$Q$9))))))))","v":{"$error":"#REF!"}},{"$f":"VLOOKUP(MONTH(F14),Workings!N:O,2,0)","v":{"$error":"#REF!"}},{"$f":"#REF!","v":{"$error":"#REF!"}},{"$f":"#REF!","v":{"$error":"#REF!"}},{"$error":"#REF!"},{"$f":"#REF!","v":{"$error":"#REF!"}},{"$f":"#REF!","v":{"$error":"#REF!"}},{"$f":"#REF!","v":{"$error":"#REF!"}},{"$f":"#REF!","v":{"$error":"#REF!"}},{"$f":"#REF!","v":{"$error":"#REF!"}},{"$f":"#REF!","v":{"$error":"#REF!"}},{"$f":"#REF!","v":{"$error":"#REF!"}},{"$f":"#REF!","v":{"$error":"#REF!"}},{"$f":"#REF!","v":{"$error":"#REF!"}},{"$f":"#REF!","v":{"$error":"#REF!"}},{"$f":"#REF!","v":{"$error":"#REF!"}}]
[{"$f":"#REF!","v":{"$error":"#REF!"}},{"$f":"#REF!","v":{"$error":"#REF!"}},{"$f":"#REF!","v":{"$error":"#REF!"}},{"$f":"#REF!","v":{"$error":"#REF!"}},{"$f":"#REF!","v":{"$error":"#REF!"}},{"$f":"#REF!","v":{"$error":"#REF!"}},{"$f":"IF(AND($F15>=Workings!$R$2,'Extract Fees'!$F15<=Workings!$S$2),Workings!$Q$2,IF(AND($F15>=Workings!$R$3,'Extract Fees'!$F15<=Workings!$S$3),Workings!$Q$3,IF(AND($F15>=Workings!$R$4,'Extract Fees'!$F15<=Workings!$S$4),Workings!$Q$4,IF(AND($F15>=Workings!$R$5,'Extract Fees'!$F15<=Workings!$S$5),Workings!$Q$5,IF(AND($F15>=Workings!$R$6,'Extract Fees'!$F15<=Workings!$S$6),Workings!$Q$6,IF(AND($F15>=Workings!$R$7,'Extract Fees'!$F15<=Workings!$S$7),Workings!$Q$7,IF(AND($F15>=Workings!$R$8,'Extract Fees'!$F15<=Workings!$S$8),Workings!$Q$8,IF(AND($F15>=Workings!$R$9,'Extract Fees'!$F15<=Workings!$S$9),Workings!$Q$9))))))))","v":{"$error":"#REF!"}},{"$f":"VLOOKUP(MONTH(F15),Workings!N:O,2,0)","v":{"$error":"#REF!"}},{"$f":"#REF!","v":{"$error":"#REF!"}},{"$f":"#REF!","v":{"$error":"#REF!"}},{"$error":"#REF!"},{"$f":"#REF!","v":{"$error":"#REF!"}},{"$f":"#REF!","v":{"$error":"#REF!"}},{"$f":"#REF!","v":{"$error":"#REF!"}},{"$f":"#REF!","v":{"$error":"#REF!"}},{"$f":"#REF!","v":{"$error":"#REF!"}},{"$f":"#REF!","v":{"$error":"#REF!"}},{"$f":"#REF!","v":{"$error":"#REF!"}},{"$f":"#REF!","v":{"$error":"#REF!"}},{"$f":"#REF!","v":{"$error":"#REF!"}},{"$f":"#REF!","v":{"$error":"#REF!"}},{"$f":"#REF!","v":{"$error":"#REF!"}}]
[{"$f":"#REF!","v":{"$error":"#REF!"}},{"$f":"#REF!","v":{"$error":"#REF!"}},{"$f":"#REF!","v":{"$error":"#REF!"}},{"$f":"#REF!","v":{"$error":"#REF!"}},{"$f":"#REF!","v":{"$error":"#REF!"}},{"$f":"#REF!","v":{"$error":"#REF!"}},{"$f":"IF(AND($F16>=Workings!$R$2,'Extract Fees'!$F16<=Workings!$S$2),Workings!$Q$2,IF(AND($F16>=Workings!$R$3,'Extract Fees'!$F16<=Workings!$S$3),Workings!$Q$3,IF(AND($F16>=Workings!$R$4,'Extract Fees'!$F16<=Workings!$S$4),Workings!$Q$4,IF(AND($F16>=Workings!$R$5,'Extract Fees'!$F16<=Workings!$S$5),Workings!$Q$5,IF(AND($F16>=Workings!$R$6,'Extract Fees'!$F16<=Workings!$S$6),Workings!$Q$6,IF(AND($F16>=Workings!$R$7,'Extract Fees'!$F16<=Workings!$S$7),Workings!$Q$7,IF(AND($F16>=Workings!$R$8,'Extract Fees'!$F16<=Workings!$S$8),Workings!$Q$8,IF(AND($F16>=Workings!$R$9,'Extract Fees'!$F16<=Workings!$S$9),Workings!$Q$9))))))))","v":{"$error":"#REF!"}},{"$f":"VLOOKUP(MONTH(F16),Workings!N:O,2,0)","v":{"$error":"#REF!"}},{"$f":"#REF!","v":{"$error":"#REF!"}},{"$f":"#REF!","v":{"$error":"#REF!"}},{"$error":"#REF!"},{"$f":"#REF!","v":{"$error":"#REF!"}},{"$f":"#REF!","v":{"$error":"#REF!"}},{"$f":"#REF!","v":{"$error":"#REF!"}},{"$f":"#REF!","v":{"$error":"#REF!"}},{"$f":"#REF!","v":{"$error":"#REF!"}},{"$f":"#REF!","v":{"$error":"#REF!"}},{"$f":"#REF!","v":{"$error":"#REF!"}},{"$f":"#REF!","v":{"$error":"#REF!"}},{"$f":"#REF!","v":{"$error":"#REF!"}},{"$f":"#REF!","v":{"$error":"#REF!"}},{"$f":"#REF!","v":{"$error":"#REF!"}}]
[{"$f":"#REF!","v":{"$error":"#REF!"}},{"$f":"#REF!","v":{"$error":"#REF!"}},{"$f":"#REF!","v":{"$error":"#REF!"}},{"$f":"#REF!","v":{"$error":"#REF!"}},{"$f":"#REF!","v":{"$error":"#REF!"}},{"$f":"#REF!","v":{"$error":"#REF!"}},{"$f":"IF(AND($F17>=Workings!$R$2,'Extract Fees'!$F17<=Workings!$S$2),Workings!$Q$2,IF(AND($F17>=Workings!$R$3,'Extract Fees'!$F17<=Workings!$S$3),Workings!$Q$3,IF(AND($F17>=Workings!$R$4,'Extract Fees'!$F17<=Workings!$S$4),Workings!$Q$4,IF(AND($F17>=Workings!$R$5,'Extract Fees'!$F17<=Workings!$S$5),Workings!$Q$5,IF(AND($F17>=Workings!$R$6,'Extract Fees'!$F17<=Workings!$S$6),Workings!$Q$6,IF(AND($F17>=Workings!$R$7,'Extract Fees'!$F17<=Workings!$S$7),Workings!$Q$7,IF(AND($F17>=Workings!$R$8,'Extract Fees'!$F17<=Workings!$S$8),Workings!$Q$8,IF(AND($F17>=Workings!$R$9,'Extract Fees'!$F17<=Workings!$S$9),Workings!$Q$9))))))))","v":{"$error":"#REF!"}},{"$f":"VLOOKUP(MONTH(F17),Workings!N:O,2,0)","v":{"$error":"#REF!"}},{"$f":"#REF!","v":{"$error":"#REF!"}},{"$f":"#REF!","v":{"$error":"#REF!"}},{"$error":"#REF!"},{"$f":"#REF!","v":{"$error":"#REF!"}},{"$f":"#REF!","v":{"$error":"#REF!"}},{"$f":"#REF!","v":{"$error":"#REF!"}},{"$f":"#REF!","v":{"$error":"#REF!"}},{"$f":"#REF!","v":{"$error":"#REF!"}},{"$f":"#REF!","v":{"$error":"#REF!"}},{"$f":"#REF!","v":{"$error":"#REF!"}},{"$f":"#REF!","v":{"$error":"#REF!"}},{"$f":"#REF!","v":{"$error":"#REF!"}},{"$f":"#REF!","v":{"$error":"#REF!"}},{"$f":"#REF!","v":{"$error":"#REF!"}}]
[{"$f":"#REF!","v":{"$error":"#REF!"}},{"$f":"#REF!","v":{"$error":"#REF!"}},{"$f":"#REF!","v":{"$error":"#REF!"}},{"$f":"#REF!","v":{"$error":"#REF!"}},{"$f":"#REF!","v":{"$error":"#REF!"}},{"$f":"#REF!","v":{"$error":"#REF!"}},{"$f":"IF(AND($F18>=Workings!$R$2,'Extract Fees'!$F18<=Workings!$S$2),Workings!$Q$2,IF(AND($F18>=Workings!$R$3,'Extract Fees'!$F18<=Workings!$S$3),Workings!$Q$3,IF(AND($F18>=Workings!$R$4,'Extract Fees'!$F18<=Workings!$S$4),Workings!$Q$4,IF(AND($F18>=Workings!$R$5,'Extract Fees'!$F18<=Workings!$S$5),Workings!$Q$5,IF(AND($F18>=Workings!$R$6,'Extract Fees'!$F18<=Workings!$S$6),Workings!$Q$6,IF(AND($F18>=Workings!$R$7,'Extract Fees'!$F18<=Workings!$S$7),Workings!$Q$7,IF(AND($F18>=Workings!$R$8,'Extract Fees'!$F18<=Workings!$S$8),Workings!$Q$8,IF(AND($F18>=Workings!$R$9,'Extract Fees'!$F18<=Workings!$S$9),Workings!$Q$9))))))))","v":{"$error":"#REF!"}},{"$f":"VLOOKUP(MONTH(F18),Workings!N:O,2,0)","v":{"$error":"#REF!"}},{"$f":"#REF!","v":{"$error":"#REF!"}},{"$f":"#REF!","v":{"$error":"#REF!"}},{"$error":"#REF!"},{"$f":"#REF!","v":{"$error":"#REF!"}},{"$f":"#REF!","v":{"$error":"#REF!"}},{"$f":"#REF!","v":{"$error":"#REF!"}},{"$f":"#REF!","v":{"$error":"#REF!"}},{"$f":"#REF!","v":{"$error":"#REF!"}},{"$f":"#REF!","v":{"$error":"#REF!"}},{"$f":"#REF!","v":{"$error":"#REF!"}},{"$f":"#REF!","v":{"$error":"#REF!"}},{"$f":"#REF!","v":{"$error":"#REF!"}},{"$f":"#REF!","v":{"$error":"#REF!"}},{"$f":"#REF!","v":{"$error":"#REF!"}}]
[{"$f":"#REF!","v":{"$error":"#REF!"}},{"$f":"#REF!","v":{"$error":"#REF!"}},{"$f":"#REF!","v":{"$error":"#REF!"}},{"$f":"#REF!","v":{"$error":"#REF!"}},{"$f":"#REF!","v":{"$error":"#REF!"}},{"$f":"#REF!","v":{"$error":"#REF!"}},{"$f":"IF(AND($F19>=Workings!$R$2,'Extract Fees'!$F19<=Workings!$S$2),Workings!$Q$2,IF(AND($F19>=Workings!$R$3,'Extract Fees'!$F19<=Workings!$S$3),Workings!$Q$3,IF(AND($F19>=Workings!$R$4,'Extract Fees'!$F19<=Workings!$S$4),Workings!$Q$4,IF(AND($F19>=Workings!$R$5,'Extract Fees'!$F19<=Workings!$S$5),Workings!$Q$5,IF(AND($F19>=Workings!$R$6,'Extract Fees'!$F19<=Workings!$S$6),Workings!$Q$6,IF(AND($F19>=Workings!$R$7,'Extract Fees'!$F19<=Workings!$S$7),Workings!$Q$7,IF(AND($F19>=Workings!$R$8,'Extract Fees'!$F19<=Workings!$S$8),Workings!$Q$8,IF(AND($F19>=Workings!$R$9,'Extract Fees'!$F19<=Workings!$S$9),Workings!$Q$9))))))))","v":{"$error":"#REF!"}},{"$f":"VLOOKUP(MONTH(F19),Workings!N:O,2,0)","v":{"$error":"#REF!"}},{"$f":"#REF!","v":{"$error":"#REF!"}},{"$f":"#REF!","v":{"$error":"#REF!"}},{"$error":"#REF!"},{"$f":"#REF!","v":{"$error":"#REF!"}},{"$f":"#REF!","v":{"$error":"#REF!"}},{"$f":"#REF!","v":{"$error":"#REF!"}},{"$f":"#REF!","v":{"$error":"#REF!"}},{"$f":"#REF!","v":{"$error":"#REF!"}},{"$f":"#REF!","v":{"$error":"#REF!"}},{"$f":"#REF!","v":{"$error":"#REF!"}},{"$f":"#REF!","v":{"$error":"#REF!"}},{"$f":"#REF!","v":{"$error":"#REF!"}},{"$f":"#REF!","v":{"$error":"#REF!"}},{"$f":"#REF!","v":{"$error":"#REF!"}}]
[{"$f":"#REF!","v":{"$error":"#REF!"}},{"$f":"#REF!","v":{"$error":"#REF!"}},{"$f":"#REF!","v":{"$error":"#REF!"}},{"$f":"#REF!","v":{"$error":"#REF!"}},{"$f":"#REF!","v":{"$error":"#REF!"}},{"$f":"#REF!","v":{"$error":"#REF!"}},{"$f":"IF(AND($F20>=Workings!$R$2,'Extract Fees'!$F20<=Workings!$S$2),Workings!$Q$2,IF(AND($F20>=Workings!$R$3,'Extract Fees'!$F20<=Workings!$S$3),Workings!$Q$3,IF(AND($F20>=Workings!$R$4,'Extract Fees'!$F20<=Workings!$S$4),Workings!$Q$4,IF(AND($F20>=Workings!$R$5,'Extract Fees'!$F20<=Workings!$S$5),Workings!$Q$5,IF(AND($F20>=Workings!$R$6,'Extract Fees'!$F20<=Workings!$S$6),Workings!$Q$6,IF(AND($F20>=Workings!$R$7,'Extract Fees'!$F20<=Workings!$S$7),Workings!$Q$7,IF(AND($F20>=Workings!$R$8,'Extract Fees'!$F20<=Workings!$S$8),Workings!$Q$8,IF(AND($F20>=Workings!$R$9,'Extract Fees'!$F20<=Workings!$S$9),Workings!$Q$9))))))))","v":{"$error":"#REF!"}},{"$f":"VLOOKUP(MONTH(F20),Workings!N:O,2,0)","v":{"$error":"#REF!"}},{"$f":"#REF!","v":{"$error":"#REF!"}},{"$f":"#REF!","v":{"$error":"#REF!"}},{"$error":"#REF!"},{"$f":"#REF!","v":{"$error":"#REF!"}},{"$f":"#REF!","v":{"$error":"#REF!"}},{"$f":"#REF!","v":{"$error":"#REF!"}},{"$f":"#REF!","v":{"$error":"#REF!"}},{"$f":"#REF!","v":{"$error":"#REF!"}},{"$f":"#REF!","v":{"$error":"#REF!"}},{"$f":"#REF!","v":{"$error":"#REF!"}},{"$f":"#REF!","v":{"$error":"#REF!"}},{"$f":"#REF!","v":{"$error":"#REF!"}},{"$f":"#REF!","v":{"$error":"#REF!"}},{"$f":"#REF!","v":{"$error":"#REF!"}}]
[{"$f":"#REF!","v":{"$error":"#REF!"}},{"$f":"#REF!","v":{"$error":"#REF!"}},{"$f":"#REF!","v":{"$error":"#REF!"}},{"$f":"#REF!","v":{"$error":"#REF!"}},{"$f":"#REF!","v":{"$error":"#REF!"}},{"$f":"#REF!","v":{"$error":"#REF!"}},{"$f":"IF(AND($F21>=Workings!$R$2,'Extract Fees'!$F21<=Workings!$S$2),Workings!$Q$2,IF(AND($F21>=Workings!$R$3,'Extract Fees'!$F21<=Workings!$S$3),Workings!$Q$3,IF(AND($F21>=Workings!$R$4,'Extract Fees'!$F21<=Workings!$S$4),Workings!$Q$4,IF(AND($F21>=Workings!$R$5,'Extract Fees'!$F21<=Workings!$S$5),Workings!$Q$5,IF(AND($F21>=Workings!$R$6,'Extract Fees'!$F21<=Workings!$S$6),Workings!$Q$6,IF(AND($F21>=Workings!$R$7,'Extract Fees'!$F21<=Workings!$S$7),Workings!$Q$7,IF(AND($F21>=Workings!$R$8,'Extract Fees'!$F21<=Workings!$S$8),Workings!$Q$8,IF(AND($F21>=Workings!$R$9,'Extract Fees'!$F21<=Workings!$S$9),Workings!$Q$9))))))))","v":{"$error":"#REF!"}},{"$f":"VLOOKUP(MONTH(F21),Workings!N:O,2,0)","v":{"$error":"#REF!"}},{"$f":"#REF!","v":{"$error":"#REF!"}},{"$f":"#REF!","v":{"$error":"#REF!"}},{"$error":"#REF!"},{"$f":"#REF!","v":{"$error":"#REF!"}},{"$f":"#REF!","v":{"$error":"#REF!"}},{"$f":"#REF!","v":{"$error":"#REF!"}},{"$f":"#REF!","v":{"$error":"#REF!"}},{"$f":"#REF!","v":{"$error":"#REF!"}},{"$f":"#REF!","v":{"$error":"#REF!"}},{"$f":"#REF!","v":{"$error":"#REF!"}},{"$f":"#REF!","v":{"$error":"#REF!"}},{"$f":"#REF!","v":{"$error":"#REF!"}},{"$f":"#REF!","v":{"$error":"#REF!"}},{"$f":"#REF!","v":{"$error":"#REF!"}}]
[{"$f":"#REF!","v":{"$error":"#REF!"}},{"$f":"#REF!","v":{"$error":"#REF!"}},{"$f":"#REF!","v":{"$error":"#REF!"}},{"$f":"#REF!","v":{"$error":"#REF!"}},{"$f":"#REF!","v":{"$error":"#REF!"}},{"$f":"#REF!","v":{"$error":"#REF!"}},{"$f":"IF(AND($F22>=Workings!$R$2,'Extract Fees'!$F22<=Workings!$S$2),Workings!$Q$2,IF(AND($F22>=Workings!$R$3,'Extract Fees'!$F22<=Workings!$S$3),Workings!$Q$3,IF(AND($F22>=Workings!$R$4,'Extract Fees'!$F22<=Workings!$S$4),Workings!$Q$4,IF(AND($F22>=Workings!$R$5,'Extract Fees'!$F22<=Workings!$S$5),Workings!$Q$5,IF(AND($F22>=Workings!$R$6,'Extract Fees'!$F22<=Workings!$S$6),Workings!$Q$6,IF(AND($F22>=Workings!$R$7,'Extract Fees'!$F22<=Workings!$S$7),Workings!$Q$7,IF(AND($F22>=Workings!$R$8,'Extract Fees'!$F22<=Workings!$S$8),Workings!$Q$8,IF(AND($F22>=Workings!$R$9,'Extract Fees'!$F22<=Workings!$S$9),Workings!$Q$9))))))))","v":{"$error":"#REF!"}},{"$f":"VLOOKUP(MONTH(F22),Workings!N:O,2,0)","v":{"$error":"#REF!"}},{"$f":"#REF!","v":{"$error":"#REF!"}},{"$f":"#REF!","v":{"$error":"#REF!"}},{"$error":"#REF!"},{"$f":"#REF!","v":{"$error":"#REF!"}},{"$f":"#REF!","v":{"$error":"#REF!"}},{"$f":"#REF!","v":{"$error":"#REF!"}},{"$f":"#REF!","v":{"$error":"#REF!"}},{"$f":"#REF!","v":{"$error":"#REF!"}},{"$f":"#REF!","v":{"$error":"#REF!"}},{"$f":"#REF!","v":{"$error":"#REF!"}},{"$f":"#REF!","v":{"$error":"#REF!"}},{"$f":"#REF!","v":{"$error":"#REF!"}},{"$f":"#REF!","v":{"$error":"#REF!"}},{"$f":"#REF!","v":{"$error":"#REF!"}}]
[{"$f":"#REF!","v":{"$error":"#REF!"}},{"$f":"#REF!","v":{"$error":"#REF!"}},{"$f":"#REF!","v":{"$error":"#REF!"}},{"$f":"#REF!","v":{"$error":"#REF!"}},{"$f":"#REF!","v":{"$error":"#REF!"}},{"$f":"#REF!","v":{"$error":"#REF!"}},{"$f":"IF(AND($F23>=Workings!$R$2,'Extract Fees'!$F23<=Workings!$S$2),Workings!$Q$2,IF(AND($F23>=Workings!$R$3,'Extract Fees'!$F23<=Workings!$S$3),Workings!$Q$3,IF(AND($F23>=Workings!$R$4,'Extract Fees'!$F23<=Workings!$S$4),Workings!$Q$4,IF(AND($F23>=Workings!$R$5,'Extract Fees'!$F23<=Workings!$S$5),Workings!$Q$5,IF(AND($F23>=Workings!$R$6,'Extract Fees'!$F23<=Workings!$S$6),Workings!$Q$6,IF(AND($F23>=Workings!$R$7,'Extract Fees'!$F23<=Workings!$S$7),Workings!$Q$7,IF(AND($F23>=Workings!$R$8,'Extract Fees'!$F23<=Workings!$S$8),Workings!$Q$8,IF(AND($F23>=Workings!$R$9,'Extract Fees'!$F23<=Workings!$S$9),Workings!$Q$9))))))))","v":{"$error":"#REF!"}},{"$f":"VLOOKUP(MONTH(F23),Workings!N:O,2,0)","v":{"$error":"#REF!"}},{"$f":"#REF!","v":{"$error":"#REF!"}},{"$f":"#REF!","v":{"$error":"#REF!"}},{"$error":"#REF!"},{"$f":"#REF!","v":{"$error":"#REF!"}},{"$f":"#REF!","v":{"$error":"#REF!"}},{"$f":"#REF!","v":{"$error":"#REF!"}},{"$f":"#REF!","v":{"$error":"#REF!"}},{"$f":"#REF!","v":{"$error":"#REF!"}},{"$f":"#REF!","v":{"$error":"#REF!"}},{"$f":"#REF!","v":{"$error":"#REF!"}},{"$f":"#REF!","v":{"$error":"#REF!"}},{"$f":"#REF!","v":{"$error":"#REF!"}},{"$f":"#REF!","v":{"$error":"#REF!"}},{"$f":"#REF!","v":{"$error":"#REF!"}}]
[{"$f":"#REF!","v":{"$error":"#REF!"}},{"$f":"#REF!","v":{"$error":"#REF!"}},{"$f":"#REF!","v":{"$error":"#REF!"}},{"$f":"#REF!","v":{"$error":"#REF!"}},{"$f":"#REF!","v":{"$error":"#REF!"}},{"$f":"#REF!","v":{"$error":"#REF!"}},{"$f":"IF(AND($F24>=Workings!$R$2,'Extract Fees'!$F24<=Workings!$S$2),Workings!$Q$2,IF(AND($F24>=Workings!$R$3,'Extract Fees'!$F24<=Workings!$S$3),Workings!$Q$3,IF(AND($F24>=Workings!$R$4,'Extract Fees'!$F24<=Workings!$S$4),Workings!$Q$4,IF(AND($F24>=Workings!$R$5,'Extract Fees'!$F24<=Workings!$S$5),Workings!$Q$5,IF(AND($F24>=Workings!$R$6,'Extract Fees'!$F24<=Workings!$S$6),Workings!$Q$6,IF(AND($F24>=Workings!$R$7,'Extract Fees'!$F24<=Workings!$S$7),Workings!$Q$7,IF(AND($F24>=Workings!$R$8,'Extract Fees'!$F24<=Workings!$S$8),Workings!$Q$8,IF(AND($F24>=Workings!$R$9,'Extract Fees'!$F24<=Workings!$S$9),Workings!$Q$9))))))))","v":{"$error":"#REF!"}},{"$f":"VLOOKUP(MONTH(F24),Workings!N:O,2,0)","v":{"$error":"#REF!"}},{"$f":"#REF!","v":{"$error":"#REF!"}},{"$f":"#REF!","v":{"$error":"#REF!"}},{"$error":"#REF!"},{"$f":"#REF!","v":{"$error":"#REF!"}},{"$f":"#REF!","v":{"$error":"#REF!"}},{"$f":"#REF!","v":{"$error":"#REF!"}},{"$f":"#REF!","v":{"$error":"#REF!"}},{"$f":"#REF!","v":{"$error":"#REF!"}},{"$f":"#REF!","v":{"$error":"#REF!"}},{"$f":"#REF!","v":{"$error":"#REF!"}},{"$f":"#REF!","v":{"$error":"#REF!"}},{"$f":"#REF!","v":{"$error":"#REF!"}},{"$f":"#REF!","v":{"$error":"#REF!"}},{"$f":"#REF!","v":{"$error":"#REF!"}}]
[{"$f":"#REF!","v":{"$error":"#REF!"}},{"$f":"#REF!","v":{"$error":"#REF!"}},{"$f":"#REF!","v":{"$error":"#REF!"}},{"$f":"#REF!","v":{"$error":"#REF!"}},{"$f":"#REF!","v":{"$error":"#REF!"}},{"$f":"#REF!","v":{"$error":"#REF!"}},{"$f":"IF(AND($F25>=Workings!$R$2,'Extract Fees'!$F25<=Workings!$S$2),Workings!$Q$2,IF(AND($F25>=Workings!$R$3,'Extract Fees'!$F25<=Workings!$S$3),Workings!$Q$3,IF(AND($F25>=Workings!$R$4,'Extract Fees'!$F25<=Workings!$S$4),Workings!$Q$4,IF(AND($F25>=Workings!$R$5,'Extract Fees'!$F25<=Workings!$S$5),Workings!$Q$5,IF(AND($F25>=Workings!$R$6,'Extract Fees'!$F25<=Workings!$S$6),Workings!$Q$6,IF(AND($F25>=Workings!$R$7,'Extract Fees'!$F25<=Workings!$S$7),Workings!$Q$7,IF(AND($F25>=Workings!$R$8,'Extract Fees'!$F25<=Workings!$S$8),Workings!$Q$8,IF(AND($F25>=Workings!$R$9,'Extract Fees'!$F25<=Workings!$S$9),Workings!$Q$9))))))))","v":{"$error":"#REF!"}},{"$f":"VLOOKUP(MONTH(F25),Workings!N:O,2,0)","v":{"$error":"#REF!"}},{"$f":"#REF!","v":{"$error":"#REF!"}},{"$f":"#REF!","v":{"$error":"#REF!"}},{"$error":"#REF!"},{"$f":"#REF!","v":{"$error":"#REF!"}},{"$f":"#REF!","v":{"$error":"#REF!"}},{"$f":"#REF!","v":{"$error":"#REF!"}},{"$f":"#REF!","v":{"$error":"#REF!"}},{"$f":"#REF!","v":{"$error":"#REF!"}},{"$f":"#REF!","v":{"$error":"#REF!"}},{"$f":"#REF!","v":{"$error":"#REF!"}},{"$f":"#REF!","v":{"$error":"#REF!"}},{"$f":"#REF!","v":{"$error":"#REF!"}},{"$f":"#REF!","v":{"$error":"#REF!"}},{"$f":"#REF!","v":{"$error":"#REF!"}}]
[{"$f":"#REF!","v":{"$error":"#REF!"}},{"$f":"#REF!","v":{"$error":"#REF!"}},{"$f":"#REF!","v":{"$error":"#REF!"}},{"$f":"#REF!","v":{"$error":"#REF!"}},{"$f":"#REF!","v":{"$error":"#REF!"}},{"$f":"#REF!","v":{"$error":"#REF!"}},{"$f":"IF(AND($F26>=Workings!$R$2,'Extract Fees'!$F26<=Workings!$S$2),Workings!$Q$2,IF(AND($F26>=Workings!$R$3,'Extract Fees'!$F26<=Workings!$S$3),Workings!$Q$3,IF(AND($F26>=Workings!$R$4,'Extract Fees'!$F26<=Workings!$S$4),Workings!$Q$4,IF(AND($F26>=Workings!$R$5,'Extract Fees'!$F26<=Workings!$S$5),Workings!$Q$5,IF(AND($F26>=Workings!$R$6,'Extract Fees'!$F26<=Workings!$S$6),Workings!$Q$6,IF(AND($F26>=Workings!$R$7,'Extract Fees'!$F26<=Workings!$S$7),Workings!$Q$7,IF(AND($F26>=Workings!$R$8,'Extract Fees'!$F26<=Workings!$S$8),Workings!$Q$8,IF(AND($F26>=Workings!$R$9,'Extract Fees'!$F26<=Workings!$S$9),Workings!$Q$9))))))))","v":{"$error":"#REF!"}},{"$f":"VLOOKUP(MONTH(F26),Workings!N:O,2,0)","v":{"$error":"#REF!"}},{"$f":"#REF!","v":{"$error":"#REF!"}},{"$f":"#REF!","v":{"$error":"#REF!"}},{"$error":"#REF!"},{"$f":"#REF!","v":{"$error":"#REF!"}},{"$f":"#REF!","v":{"$error":"#REF!"}},{"$f":"#REF!","v":{"$error":"#REF!"}},{"$f":"#REF!","v":{"$error":"#REF!"}},{"$f":"#REF!","v":{"$error":"#REF!"}},{"$f":"#REF!","v":{"$error":"#REF!"}},{"$f":"#REF!","v":{"$error":"#REF!"}},{"$f":"#REF!","v":{"$error":"#REF!"}},{"$f":"#REF!","v":{"$error":"#REF!"}},{"$f":"#REF!","v":{"$error":"#REF!"}},{"$f":"#REF!","v":{"$error":"#REF!"}}]
[{"$f":"#REF!","v":{"$error":"#REF!"}},{"$f":"#REF!","v":{"$error":"#REF!"}},{"$f":"#REF!","v":{"$error":"#REF!"}},{"$f":"#REF!","v":{"$error":"#REF!"}},{"$f":"#REF!","v":{"$error":"#REF!"}},{"$f":"#REF!","v":{"$error":"#REF!"}},{"$f":"IF(AND($F27>=Workings!$R$2,'Extract Fees'!$F27<=Workings!$S$2),Workings!$Q$2,IF(AND($F27>=Workings!$R$3,'Extract Fees'!$F27<=Workings!$S$3),Workings!$Q$3,IF(AND($F27>=Workings!$R$4,'Extract Fees'!$F27<=Workings!$S$4),Workings!$Q$4,IF(AND($F27>=Workings!$R$5,'Extract Fees'!$F27<=Workings!$S$5),Workings!$Q$5,IF(AND($F27>=Workings!$R$6,'Extract Fees'!$F27<=Workings!$S$6),Workings!$Q$6,IF(AND($F27>=Workings!$R$7,'Extract Fees'!$F27<=Workings!$S$7),Workings!$Q$7,IF(AND($F27>=Workings!$R$8,'Extract Fees'!$F27<=Workings!$S$8),Workings!$Q$8,IF(AND($F27>=Workings!$R$9,'Extract Fees'!$F27<=Workings!$S$9),Workings!$Q$9))))))))","v":{"$error":"#REF!"}},{"$f":"VLOOKUP(MONTH(F27),Workings!N:O,2,0)","v":{"$error":"#REF!"}},{"$f":"#REF!","v":{"$error":"#REF!"}},{"$f":"#REF!","v":{"$error":"#REF!"}},{"$error":"#REF!"},{"$f":"#REF!","v":{"$error":"#REF!"}},{"$f":"#REF!","v":{"$error":"#REF!"}},{"$f":"#REF!","v":{"$error":"#REF!"}},{"$f":"#REF!","v":{"$error":"#REF!"}},{"$f":"#REF!","v":{"$error":"#REF!"}},{"$f":"#REF!","v":{"$error":"#REF!"}},{"$f":"#REF!","v":{"$error":"#REF!"}},{"$f":"#REF!","v":{"$error":"#REF!"}},{"$f":"#REF!","v":{"$error":"#REF!"}},{"$f":"#REF!","v":{"$error":"#REF!"}},{"$f":"#REF!","v":{"$error":"#REF!"}}]
[{"$f":"#REF!","v":{"$error":"#REF!"}},{"$f":"#REF!","v":{"$error":"#REF!"}},{"$f":"#REF!","v":{"$error":"#REF!"}},{"$f":"#REF!","v":{"$error":"#REF!"}},{"$f":"#REF!","v":{"$error":"#REF!"}},{"$f":"#REF!","v":{"$error":"#REF!"}},{"$f":"IF(AND($F28>=Workings!$R$2,'Extract Fees'!$F28<=Workings!$S$2),Workings!$Q$2,IF(AND($F28>=Workings!$R$3,'Extract Fees'!$F28<=Workings!$S$3),Workings!$Q$3,IF(AND($F28>=Workings!$R$4,'Extract Fees'!$F28<=Workings!$S$4),Workings!$Q$4,IF(AND($F28>=Workings!$R$5,'Extract Fees'!$F28<=Workings!$S$5),Workings!$Q$5,IF(AND($F28>=Workings!$R$6,'Extract Fees'!$F28<=Workings!$S$6),Workings!$Q$6,IF(AND($F28>=Workings!$R$7,'Extract Fees'!$F28<=Workings!$S$7),Workings!$Q$7,IF(AND($F28>=Workings!$R$8,'Extract Fees'!$F28<=Workings!$S$8),Workings!$Q$8,IF(AND($F28>=Workings!$R$9,'Extract Fees'!$F28<=Workings!$S$9),Workings!$Q$9))))))))","v":{"$error":"#REF!"}},{"$f":"VLOOKUP(MONTH(F28),Workings!N:O,2,0)","v":{"$error":"#REF!"}},{"$f":"#REF!","v":{"$error":"#REF!"}},{"$f":"#REF!","v":{"$error":"#REF!"}},{"$error":"#REF!"},{"$f":"#REF!","v":{"$error":"#REF!"}},{"$f":"#REF!","v":{"$error":"#REF!"}},{"$f":"#REF!","v":{"$error":"#REF!"}},{"$f":"#REF!","v":{"$error":"#REF!"}},{"$f":"#REF!","v":{"$error":"#REF!"}},{"$f":"#REF!","v":{"$error":"#REF!"}},{"$f":"#REF!","v":{"$error":"#REF!"}},{"$f":"#REF!","v":{"$error":"#REF!"}},{"$f":"#REF!","v":{"$error":"#REF!"}},{"$f":"#REF!","v":{"$error":"#REF!"}},{"$f":"#REF!","v":{"$error":"#REF!"}}]
[{"$f":"#REF!","v":{"$error":"#REF!"}},{"$f":"#REF!","v":{"$error":"#REF!"}},{"$f":"#REF!","v":{"$error":"#REF!"}},{"$f":"#REF!","v":{"$error":"#REF!"}},{"$f":"#REF!","v":{"$error":"#REF!"}},{"$f":"#REF!","v":{"$error":"#REF!"}},{"$f":"IF(AND($F29>=Workings!$R$2,'Extract Fees'!$F29<=Workings!$S$2),Workings!$Q$2,IF(AND($F29>=Workings!$R$3,'Extract Fees'!$F29<=Workings!$S$3),Workings!$Q$3,IF(AND($F29>=Workings!$R$4,'Extract Fees'!$F29<=Workings!$S$4),Workings!$Q$4,IF(AND($F29>=Workings!$R$5,'Extract Fees'!$F29<=Workings!$S$5),Workings!$Q$5,IF(AND($F29>=Workings!$R$6,'Extract Fees'!$F29<=Workings!$S$6),Workings!$Q$6,IF(AND($F29>=Workings!$R$7,'Extract Fees'!$F29<=Workings!$S$7),Workings!$Q$7,IF(AND($F29>=Workings!$R$8,'Extract Fees'!$F29<=Workings!$S$8),Workings!$Q$8,IF(AND($F29>=Workings!$R$9,'Extract Fees'!$F29<=Workings!$S$9),Workings!$Q$9))))))))","v":{"$error":"#REF!"}},{"$f":"VLOOKUP(MONTH(F29),Workings!N:O,2,0)","v":{"$error":"#REF!"}},{"$f":"#REF!","v":{"$error":"#REF!"}},{"$f":"#REF!","v":{"$error":"#REF!"}},{"$error":"#REF!"},{"$f":"#REF!","v":{"$error":"#REF!"}},{"$f":"#REF!","v":{"$error":"#REF!"}},{"$f":"#REF!","v":{"$error":"#REF!"}},{"$f":"#REF!","v":{"$error":"#REF!"}},{"$f":"#REF!","v":{"$error":"#REF!"}},{"$f":"#REF!","v":{"$error":"#REF!"}},{"$f":"#REF!","v":{"$error":"#REF!"}},{"$f":"#REF!","v":{"$error":"#REF!"}},{"$f":"#REF!","v":{"$error":"#REF!"}},{"$f":"#REF!","v":{"$error":"#REF!"}},{"$f":"#REF!","v":{"$error":"#REF!"}}]
[{"$f":"#REF!","v":{"$error":"#REF!"}},{"$f":"#REF!","v":{"$error":"#REF!"}},{"$f":"#REF!","v":{"$error":"#REF!"}},{"$f":"#REF!","v":{"$error":"#REF!"}},{"$f":"#REF!","v":{"$error":"#REF!"}},{"$f":"#REF!","v":{"$error":"#REF!"}},{"$f":"IF(AND($F30>=Workings!$R$2,'Extract Fees'!$F30<=Workings!$S$2),Workings!$Q$2,IF(AND($F30>=Workings!$R$3,'Extract Fees'!$F30<=Workings!$S$3),Workings!$Q$3,IF(AND($F30>=Workings!$R$4,'Extract Fees'!$F30<=Workings!$S$4),Workings!$Q$4,IF(AND($F30>=Workings!$R$5,'Extract Fees'!$F30<=Workings!$S$5),Workings!$Q$5,IF(AND($F30>=Workings!$R$6,'Extract Fees'!$F30<=Workings!$S$6),Workings!$Q$6,IF(AND($F30>=Workings!$R$7,'Extract Fees'!$F30<=Workings!$S$7),Workings!$Q$7,IF(AND($F30>=Workings!$R$8,'Extract Fees'!$F30<=Workings!$S$8),Workings!$Q$8,IF(AND($F30>=Workings!$R$9,'Extract Fees'!$F30<=Workings!$S$9),Workings!$Q$9))))))))","v":{"$error":"#REF!"}},{"$f":"VLOOKUP(MONTH(F30),Workings!N:O,2,0)","v":{"$error":"#REF!"}},{"$f":"#REF!","v":{"$error":"#REF!"}},{"$f":"#REF!","v":{"$error":"#REF!"}},{"$error":"#REF!"},{"$f":"#REF!","v":{"$error":"#REF!"}},{"$f":"#REF!","v":{"$error":"#REF!"}},{"$f":"#REF!","v":{"$error":"#REF!"}},{"$f":"#REF!","v":{"$error":"#REF!"}},{"$f":"#REF!","v":{"$error":"#REF!"}},{"$f":"#REF!","v":{"$error":"#REF!"}},{"$f":"#REF!","v":{"$error":"#REF!"}},{"$f":"#REF!","v":{"$error":"#REF!"}},{"$f":"#REF!","v":{"$error":"#REF!"}},{"$f":"#REF!","v":{"$error":"#REF!"}},{"$f":"#REF!","v":{"$error":"#REF!"}}]
[{"$f":"#REF!","v":{"$error":"#REF!"}},{"$f":"#REF!","v":{"$error":"#REF!"}},{"$f":"#REF!","v":{"$error":"#REF!"}},{"$f":"#REF!","v":{"$error":"#REF!"}},{"$f":"#REF!","v":{"$error":"#REF!"}},{"$f":"#REF!","v":{"$error":"#REF!"}},{"$f":"IF(AND($F31>=Workings!$R$2,'Extract Fees'!$F31<=Workings!$S$2),Workings!$Q$2,IF(AND($F31>=Workings!$R$3,'Extract Fees'!$F31<=Workings!$S$3),Workings!$Q$3,IF(AND($F31>=Workings!$R$4,'Extract Fees'!$F31<=Workings!$S$4),Workings!$Q$4,IF(AND($F31>=Workings!$R$5,'Extract Fees'!$F31<=Workings!$S$5),Workings!$Q$5,IF(AND($F31>=Workings!$R$6,'Extract Fees'!$F31<=Workings!$S$6),Workings!$Q$6,IF(AND($F31>=Workings!$R$7,'Extract Fees'!$F31<=Workings!$S$7),Workings!$Q$7,IF(AND($F31>=Workings!$R$8,'Extract Fees'!$F31<=Workings!$S$8),Workings!$Q$8,IF(AND($F31>=Workings!$R$9,'Extract Fees'!$F31<=Workings!$S$9),Workings!$Q$9))))))))","v":{"$error":"#REF!"}},{"$f":"VLOOKUP(MONTH(F31),Workings!N:O,2,0)","v":{"$error":"#REF!"}},{"$f":"#REF!","v":{"$error":"#REF!"}},{"$f":"#REF!","v":{"$error":"#REF!"}},{"$error":"#REF!"},{"$f":"#REF!","v":{"$error":"#REF!"}},{"$f":"#REF!","v":{"$error":"#REF!"}},{"$f":"#REF!","v":{"$error":"#REF!"}},{"$f":"#REF!","v":{"$error":"#REF!"}},{"$f":"#REF!","v":{"$error":"#REF!"}},{"$f":"#REF!","v":{"$error":"#REF!"}},{"$f":"#REF!","v":{"$error":"#REF!"}},{"$f":"#REF!","v":{"$error":"#REF!"}},{"$f":"#REF!","v":{"$error":"#REF!"}},{"$f":"#REF!","v":{"$error":"#REF!"}},{"$f":"#REF!","v":{"$error":"#REF!"}}]
[{"$f":"#REF!","v":{"$error":"#REF!"}},{"$f":"#REF!","v":{"$error":"#REF!"}},{"$f":"#REF!","v":{"$error":"#REF!"}},{"$f":"#REF!","v":{"$error":"#REF!"}},{"$f":"#REF!","v":{"$error":"#REF!"}},{"$f":"#REF!","v":{"$error":"#REF!"}},{"$f":"IF(AND($F32>=Workings!$R$2,'Extract Fees'!$F32<=Workings!$S$2),Workings!$Q$2,IF(AND($F32>=Workings!$R$3,'Extract Fees'!$F32<=Workings!$S$3),Workings!$Q$3,IF(AND($F32>=Workings!$R$4,'Extract Fees'!$F32<=Workings!$S$4),Workings!$Q$4,IF(AND($F32>=Workings!$R$5,'Extract Fees'!$F32<=Workings!$S$5),Workings!$Q$5,IF(AND($F32>=Workings!$R$6,'Extract Fees'!$F32<=Workings!$S$6),Workings!$Q$6,IF(AND($F32>=Workings!$R$7,'Extract Fees'!$F32<=Workings!$S$7),Workings!$Q$7,IF(AND($F32>=Workings!$R$8,'Extract Fees'!$F32<=Workings!$S$8),Workings!$Q$8,IF(AND($F32>=Workings!$R$9,'Extract Fees'!$F32<=Workings!$S$9),Workings!$Q$9))))))))","v":{"$error":"#REF!"}},{"$f":"VLOOKUP(MONTH(F32),Workings!N:O,2,0)","v":{"$error":"#REF!"}},{"$f":"#REF!","v":{"$error":"#REF!"}},{"$f":"#REF!","v":{"$error":"#REF!"}},{"$error":"#REF!"},{"$f":"#REF!","v":{"$error":"#REF!"}},{"$f":"#REF!","v":{"$error":"#REF!"}},{"$f":"#REF!","v":{"$error":"#REF!"}},{"$f":"#REF!","v":{"$error":"#REF!"}},{"$f":"#REF!","v":{"$error":"#REF!"}},{"$f":"#REF!","v":{"$error":"#REF!"}},{"$f":"#REF!","v":{"$error":"#REF!"}},{"$f":"#REF!","v":{"$error":"#REF!"}},{"$f":"#REF!","v":{"$error":"#REF!"}},{"$f":"#REF!","v":{"$error":"#REF!"}},{"$f":"#REF!","v":{"$error":"#REF!"}}]

{"sheet":"Extract Expenses","index":4,"n_rows":16,"n_cols":12,"rows_kept":16,"cut":false,"hidden":true,"merged":[]}
["Vendor ","Day rate","Ref no:","Submission date","CO sig date","AO sig date","Fin Year","Fin Period","Expense Date","Type of Expense claim","Notes","Amount"]
[{"$f":"#REF!","v":{"$error":"#REF!"}},{"$f":"#REF!","v":{"$error":"#REF!"}},{"$f":"#REF!","v":{"$error":"#REF!"}},{"$f":"#REF!","v":{"$error":"#REF!"}},{"$f":"#REF!","v":{"$error":"#REF!"}},{"$f":"#REF!","v":{"$error":"#REF!"}},{"$f":"IF(AND($F2>=Workings!$R$2,'Extract Expenses'!$F2<=Workings!$S$2),Workings!$Q$2,IF(AND($F2>=Workings!$R$3,'Extract Expenses'!$F2<=Workings!$S$3),Workings!$Q$3,IF(AND($F2>=Workings!$R$4,'Extract Expenses'!$F2<=Workings!$S$4),Workings!$Q$4,IF(AND($F2>=Workings!$R$5,'Extract Expenses'!$F2<=Workings!$S$5),Workings!$Q$5,IF(AND($F2>=Workings!$R$6,'Extract Expenses'!$F2<=Workings!$S$6),Workings!$Q$6,IF(AND($F2>=Workings!$R$7,'Extract Expenses'!$F2<=Workings!$S$7),Workings!$Q$7,IF(AND($F2>=Workings!$R$8,'Extract Expenses'!$F2<=Workings!$S$8),Workings!$Q$8,IF(AND($F2>=Workings!$R$9,'Extract Expenses'!$F2<=Workings!$S$9),Workings!$Q$9))))))))","v":{"$error":"#REF!"}},{"$f":"VLOOKUP(MONTH(F2),Workings!N:O,2,0)","v":{"$error":"#REF!"}},{"$f":"#REF!","v":{"$error":"#REF!"}},{"$f":"#REF!","v":{"$error":"#REF!"}},{"$f":"#REF!","v":{"$error":"#REF!"}},{"$f":"#REF!","v":{"$error":"#REF!"}}]
[{"$f":"#REF!","v":{"$error":"#REF!"}},{"$f":"#REF!","v":{"$error":"#REF!"}},{"$f":"#REF!","v":{"$error":"#REF!"}},{"$f":"#REF!","v":{"$error":"#REF!"}},{"$f":"#REF!","v":{"$error":"#REF!"}},{"$f":"#REF!","v":{"$error":"#REF!"}},{"$f":"IF(AND($F3>=Workings!$R$2,'Extract Expenses'!$F3<=Workings!$S$2),Workings!$Q$2,IF(AND($F3>=Workings!$R$3,'Extract Expenses'!$F3<=Workings!$S$3),Workings!$Q$3,IF(AND($F3>=Workings!$R$4,'Extract Expenses'!$F3<=Workings!$S$4),Workings!$Q$4,IF(AND($F3>=Workings!$R$5,'Extract Expenses'!$F3<=Workings!$S$5),Workings!$Q$5,IF(AND($F3>=Workings!$R$6,'Extract Expenses'!$F3<=Workings!$S$6),Workings!$Q$6,IF(AND($F3>=Workings!$R$7,'Extract Expenses'!$F3<=Workings!$S$7),Workings!$Q$7,IF(AND($F3>=Workings!$R$8,'Extract Expenses'!$F3<=Workings!$S$8),Workings!$Q$8,IF(AND($F3>=Workings!$R$9,'Extract Expenses'!$F3<=Workings!$S$9),Workings!$Q$9))))))))","v":{"$error":"#REF!"}},{"$f":"VLOOKUP(MONTH(F3),Workings!N:O,2,0)","v":{"$error":"#REF!"}},{"$f":"#REF!","v":{"$error":"#REF!"}},{"$f":"#REF!","v":{"$error":"#REF!"}},{"$f":"#REF!","v":{"$error":"#REF!"}},{"$f":"#REF!","v":{"$error":"#REF!"}}]
[{"$f":"#REF!","v":{"$error":"#REF!"}},{"$f":"#REF!","v":{"$error":"#REF!"}},{"$f":"#REF!","v":{"$error":"#REF!"}},{"$f":"#REF!","v":{"$error":"#REF!"}},{"$f":"#REF!","v":{"$error":"#REF!"}},{"$f":"#REF!","v":{"$error":"#REF!"}},{"$f":"IF(AND($F4>=Workings!$R$2,'Extract Expenses'!$F4<=Workings!$S$2),Workings!$Q$2,IF(AND($F4>=Workings!$R$3,'Extract Expenses'!$F4<=Workings!$S$3),Workings!$Q$3,IF(AND($F4>=Workings!$R$4,'Extract Expenses'!$F4<=Workings!$S$4),Workings!$Q$4,IF(AND($F4>=Workings!$R$5,'Extract Expenses'!$F4<=Workings!$S$5),Workings!$Q$5,IF(AND($F4>=Workings!$R$6,'Extract Expenses'!$F4<=Workings!$S$6),Workings!$Q$6,IF(AND($F4>=Workings!$R$7,'Extract Expenses'!$F4<=Workings!$S$7),Workings!$Q$7,IF(AND($F4>=Workings!$R$8,'Extract Expenses'!$F4<=Workings!$S$8),Workings!$Q$8,IF(AND($F4>=Workings!$R$9,'Extract Expenses'!$F4<=Workings!$S$9),Workings!$Q$9))))))))","v":{"$error":"#REF!"}},{"$f":"VLOOKUP(MONTH(F4),Workings!N:O,2,0)","v":{"$error":"#REF!"}},{"$f":"#REF!","v":{"$error":"#REF!"}},{"$f":"#REF!","v":{"$error":"#REF!"}},{"$f":"#REF!","v":{"$error":"#REF!"}},{"$f":"#REF!","v":{"$error":"#REF!"}}]
[{"$f":"#REF!","v":{"$error":"#REF!"}},{"$f":"#REF!","v":{"$error":"#REF!"}},{"$f":"#REF!","v":{"$error":"#REF!"}},{"$f":"#REF!","v":{"$error":"#REF!"}},{"$f":"#REF!","v":{"$error":"#REF!"}},{"$f":"#REF!","v":{"$error":"#REF!"}},{"$f":"IF(AND($F5>=Workings!$R$2,'Extract Expenses'!$F5<=Workings!$S$2),Workings!$Q$2,IF(AND($F5>=Workings!$R$3,'Extract Expenses'!$F5<=Workings!$S$3),Workings!$Q$3,IF(AND($F5>=Workings!$R$4,'Extract Expenses'!$F5<=Workings!$S$4),Workings!$Q$4,IF(AND($F5>=Workings!$R$5,'Extract Expenses'!$F5<=Workings!$S$5),Workings!$Q$5,IF(AND($F5>=Workings!$R$6,'Extract Expenses'!$F5<=Workings!$S$6),Workings!$Q$6,IF(AND($F5>=Workings!$R$7,'Extract Expenses'!$F5<=Workings!$S$7),Workings!$Q$7,IF(AND($F5>=Workings!$R$8,'Extract Expenses'!$F5<=Workings!$S$8),Workings!$Q$8,IF(AND($F5>=Workings!$R$9,'Extract Expenses'!$F5<=Workings!$S$9),Workings!$Q$9))))))))","v":{"$error":"#REF!"}},{"$f":"VLOOKUP(MONTH(F5),Workings!N:O,2,0)","v":{"$error":"#REF!"}},{"$f":"#REF!","v":{"$error":"#REF!"}},{"$f":"#REF!","v":{"$error":"#REF!"}},{"$f":"#REF!","v":{"$error":"#REF!"}},{"$f":"#REF!","v":{"$error":"#REF!"}}]
[{"$f":"#REF!","v":{"$error":"#REF!"}},{"$f":"#REF!","v":{"$error":"#REF!"}},{"$f":"#REF!","v":{"$error":"#REF!"}},{"$f":"#REF!","v":{"$error":"#REF!"}},{"$f":"#REF!","v":{"$error":"#REF!"}},{"$f":"#REF!","v":{"$error":"#REF!"}},{"$f":"IF(AND($F6>=Workings!$R$2,'Extract Expenses'!$F6<=Workings!$S$2),Workings!$Q$2,IF(AND($F6>=Workings!$R$3,'Extract Expenses'!$F6<=Workings!$S$3),Workings!$Q$3,IF(AND($F6>=Workings!$R$4,'Extract Expenses'!$F6<=Workings!$S$4),Workings!$Q$4,IF(AND($F6>=Workings!$R$5,'Extract Expenses'!$F6<=Workings!$S$5),Workings!$Q$5,IF(AND($F6>=Workings!$R$6,'Extract Expenses'!$F6<=Workings!$S$6),Workings!$Q$6,IF(AND($F6>=Workings!$R$7,'Extract Expenses'!$F6<=Workings!$S$7),Workings!$Q$7,IF(AND($F6>=Workings!$R$8,'Extract Expenses'!$F6<=Workings!$S$8),Workings!$Q$8,IF(AND($F6>=Workings!$R$9,'Extract Expenses'!$F6<=Workings!$S$9),Workings!$Q$9))))))))","v":{"$error":"#REF!"}},{"$f":"VLOOKUP(MONTH(F6),Workings!N:O,2,0)","v":{"$error":"#REF!"}},{"$f":"#REF!","v":{"$error":"#REF!"}},{"$f":"#REF!","v":{"$error":"#REF!"}},{"$f":"#REF!","v":{"$error":"#REF!"}},{"$f":"#REF!","v":{"$error":"#REF!"}}]
[{"$f":"#REF!","v":{"$error":"#REF!"}},{"$f":"#REF!","v":{"$error":"#REF!"}},{"$f":"#REF!","v":{"$error":"#REF!"}},{"$f":"#REF!","v":{"$error":"#REF!"}},{"$f":"#REF!","v":{"$error":"#REF!"}},{"$f":"#REF!","v":{"$error":"#REF!"}},{"$f":"IF(AND($F7>=Workings!$R$2,'Extract Expenses'!$F7<=Workings!$S$2),Workings!$Q$2,IF(AND($F7>=Workings!$R$3,'Extract Expenses'!$F7<=Workings!$S$3),Workings!$Q$3,IF(AND($F7>=Workings!$R$4,'Extract Expenses'!$F7<=Workings!$S$4),Workings!$Q$4,IF(AND($F7>=Workings!$R$5,'Extract Expenses'!$F7<=Workings!$S$5),Workings!$Q$5,IF(AND($F7>=Workings!$R$6,'Extract Expenses'!$F7<=Workings!$S$6),Workings!$Q$6,IF(AND($F7>=Workings!$R$7,'Extract Expenses'!$F7<=Workings!$S$7),Workings!$Q$7,IF(AND($F7>=Workings!$R$8,'Extract Expenses'!$F7<=Workings!$S$8),Workings!$Q$8,IF(AND($F7>=Workings!$R$9,'Extract Expenses'!$F7<=Workings!$S$9),Workings!$Q$9))))))))","v":{"$error":"#REF!"}},{"$f":"VLOOKUP(MONTH(F7),Workings!N:O,2,0)","v":{"$error":"#REF!"}},{"$f":"#REF!","v":{"$error":"#REF!"}},{"$f":"#REF!","v":{"$error":"#REF!"}},{"$f":"#REF!","v":{"$error":"#REF!"}},{"$f":"#REF!","v":{"$error":"#REF!"}}]
[{"$f":"#REF!","v":{"$error":"#REF!"}},{"$f":"#REF!","v":{"$error":"#REF!"}},{"$f":"#REF!","v":{"$error":"#REF!"}},{"$f":"#REF!","v":{"$error":"#REF!"}},{"$f":"#REF!","v":{"$error":"#REF!"}},{"$f":"#REF!","v":{"$error":"#REF!"}},{"$f":"IF(AND($F8>=Workings!$R$2,'Extract Expenses'!$F8<=Workings!$S$2),Workings!$Q$2,IF(AND($F8>=Workings!$R$3,'Extract Expenses'!$F8<=Workings!$S$3),Workings!$Q$3,IF(AND($F8>=Workings!$R$4,'Extract Expenses'!$F8<=Workings!$S$4),Workings!$Q$4,IF(AND($F8>=Workings!$R$5,'Extract Expenses'!$F8<=Workings!$S$5),Workings!$Q$5,IF(AND($F8>=Workings!$R$6,'Extract Expenses'!$F8<=Workings!$S$6),Workings!$Q$6,IF(AND($F8>=Workings!$R$7,'Extract Expenses'!$F8<=Workings!$S$7),Workings!$Q$7,IF(AND($F8>=Workings!$R$8,'Extract Expenses'!$F8<=Workings!$S$8),Workings!$Q$8,IF(AND($F8>=Workings!$R$9,'Extract Expenses'!$F8<=Workings!$S$9),Workings!$Q$9))))))))","v":{"$error":"#REF!"}},{"$f":"VLOOKUP(MONTH(F8),Workings!N:O,2,0)","v":{"$error":"#REF!"}},{"$f":"#REF!","v":{"$error":"#REF!"}},{"$f":"#REF!","v":{"$error":"#REF!"}},{"$f":"#REF!","v":{"$error":"#REF!"}},{"$f":"#REF!","v":{"$error":"#REF!"}}]
[{"$f":"#REF!","v":{"$error":"#REF!"}},{"$f":"#REF!","v":{"$error":"#REF!"}},{"$f":"#REF!","v":{"$error":"#REF!"}},{"$f":"#REF!","v":{"$error":"#REF!"}},{"$f":"#REF!","v":{"$error":"#REF!"}},{"$f":"#REF!","v":{"$error":"#REF!"}},{"$f":"IF(AND($F9>=Workings!$R$2,'Extract Expenses'!$F9<=Workings!$S$2),Workings!$Q$2,IF(AND($F9>=Workings!$R$3,'Extract Expenses'!$F9<=Workings!$S$3),Workings!$Q$3,IF(AND($F9>=Workings!$R$4,'Extract Expenses'!$F9<=Workings!$S$4),Workings!$Q$4,IF(AND($F9>=Workings!$R$5,'Extract Expenses'!$F9<=Workings!$S$5),Workings!$Q$5,IF(AND($F9>=Workings!$R$6,'Extract Expenses'!$F9<=Workings!$S$6),Workings!$Q$6,IF(AND($F9>=Workings!$R$7,'Extract Expenses'!$F9<=Workings!$S$7),Workings!$Q$7,IF(AND($F9>=Workings!$R$8,'Extract Expenses'!$F9<=Workings!$S$8),Workings!$Q$8,IF(AND($F9>=Workings!$R$9,'Extract Expenses'!$F9<=Workings!$S$9),Workings!$Q$9))))))))","v":{"$error":"#REF!"}},{"$f":"VLOOKUP(MONTH(F9),Workings!N:O,2,0)","v":{"$error":"#REF!"}},{"$f":"#REF!","v":{"$error":"#REF!"}},{"$f":"#REF!","v":{"$error":"#REF!"}},{"$f":"#REF!","v":{"$error":"#REF!"}},{"$f":"#REF!","v":{"$error":"#REF!"}}]
[{"$f":"#REF!","v":{"$error":"#REF!"}},{"$f":"#REF!","v":{"$error":"#REF!"}},{"$f":"#REF!","v":{"$error":"#REF!"}},{"$f":"#REF!","v":{"$error":"#REF!"}},{"$f":"#REF!","v":{"$error":"#REF!"}},{"$f":"#REF!","v":{"$error":"#REF!"}},{"$f":"IF(AND($F10>=Workings!$R$2,'Extract Expenses'!$F10<=Workings!$S$2),Workings!$Q$2,IF(AND($F10>=Workings!$R$3,'Extract Expenses'!$F10<=Workings!$S$3),Workings!$Q$3,IF(AND($F10>=Workings!$R$4,'Extract Expenses'!$F10<=Workings!$S$4),Workings!$Q$4,IF(AND($F10>=Workings!$R$5,'Extract Expenses'!$F10<=Workings!$S$5),Workings!$Q$5,IF(AND($F10>=Workings!$R$6,'Extract Expenses'!$F10<=Workings!$S$6),Workings!$Q$6,IF(AND($F10>=Workings!$R$7,'Extract Expenses'!$F10<=Workings!$S$7),Workings!$Q$7,IF(AND($F10>=Workings!$R$8,'Extract Expenses'!$F10<=Workings!$S$8),Workings!$Q$8,IF(AND($F10>=Workings!$R$9,'Extract Expenses'!$F10<=Workings!$S$9),Workings!$Q$9))))))))","v":{"$error":"#REF!"}},{"$f":"VLOOKUP(MONTH(F10),Workings!N:O,2,0)","v":{"$error":"#REF!"}},{"$f":"#REF!","v":{"$error":"#REF!"}},{"$f":"#REF!","v":{"$error":"#REF!"}},{"$f":"#REF!","v":{"$error":"#REF!"}},{"$f":"#REF!","v":{"$error":"#REF!"}}]
[{"$f":"#REF!","v":{"$error":"#REF!"}},{"$f":"#REF!","v":{"$error":"#REF!"}},{"$f":"#REF!","v":{"$error":"#REF!"}},{"$f":"#REF!","v":{"$error":"#REF!"}},{"$f":"#REF!","v":{"$error":"#REF!"}},{"$f":"#REF!","v":{"$error":"#REF!"}},{"$f":"IF(AND($F11>=Workings!$R$2,'Extract Expenses'!$F11<=Workings!$S$2),Workings!$Q$2,IF(AND($F11>=Workings!$R$3,'Extract Expenses'!$F11<=Workings!$S$3),Workings!$Q$3,IF(AND($F11>=Workings!$R$4,'Extract Expenses'!$F11<=Workings!$S$4),Workings!$Q$4,IF(AND($F11>=Workings!$R$5,'Extract Expenses'!$F11<=Workings!$S$5),Workings!$Q$5,IF(AND($F11>=Workings!$R$6,'Extract Expenses'!$F11<=Workings!$S$6),Workings!$Q$6,IF(AND($F11>=Workings!$R$7,'Extract Expenses'!$F11<=Workings!$S$7),Workings!$Q$7,IF(AND($F11>=Workings!$R$8,'Extract Expenses'!$F11<=Workings!$S$8),Workings!$Q$8,IF(AND($F11>=Workings!$R$9,'Extract Expenses'!$F11<=Workings!$S$9),Workings!$Q$9))))))))","v":{"$error":"#REF!"}},{"$f":"VLOOKUP(MONTH(F11),Workings!N:O,2,0)","v":{"$error":"#REF!"}},{"$f":"#REF!","v":{"$error":"#REF!"}},{"$f":"#REF!","v":{"$error":"#REF!"}},{"$f":"#REF!","v":{"$error":"#REF!"}},{"$f":"#REF!","v":{"$error":"#REF!"}}]
[{"$f":"#REF!","v":{"$error":"#REF!"}},{"$f":"#REF!","v":{"$error":"#REF!"}},{"$f":"#REF!","v":{"$error":"#REF!"}},{"$f":"#REF!","v":{"$error":"#REF!"}},{"$f":"#REF!","v":{"$error":"#REF!"}},{"$f":"#REF!","v":{"$error":"#REF!"}},{"$f":"IF(AND($F12>=Workings!$R$2,'Extract Expenses'!$F12<=Workings!$S$2),Workings!$Q$2,IF(AND($F12>=Workings!$R$3,'Extract Expenses'!$F12<=Workings!$S$3),Workings!$Q$3,IF(AND($F12>=Workings!$R$4,'Extract Expenses'!$F12<=Workings!$S$4),Workings!$Q$4,IF(AND($F12>=Workings!$R$5,'Extract Expenses'!$F12<=Workings!$S$5),Workings!$Q$5,IF(AND($F12>=Workings!$R$6,'Extract Expenses'!$F12<=Workings!$S$6),Workings!$Q$6,IF(AND($F12>=Workings!$R$7,'Extract Expenses'!$F12<=Workings!$S$7),Workings!$Q$7,IF(AND($F12>=Workings!$R$8,'Extract Expenses'!$F12<=Workings!$S$8),Workings!$Q$8,IF(AND($F12>=Workings!$R$9,'Extract Expenses'!$F12<=Workings!$S$9),Workings!$Q$9))))))))","v":{"$error":"#REF!"}},{"$f":"VLOOKUP(MONTH(F12),Workings!N:O,2,0)","v":{"$error":"#REF!"}},{"$f":"#REF!","v":{"$error":"#REF!"}},{"$f":"#REF!","v":{"$error":"#REF!"}},{"$f":"#REF!","v":{"$error":"#REF!"}},{"$f":"#REF!","v":{"$error":"#REF!"}}]
[{"$f":"#REF!","v":{"$error":"#REF!"}},{"$f":"#REF!","v":{"$error":"#REF!"}},{"$f":"#REF!","v":{"$error":"#REF!"}},{"$f":"#REF!","v":{"$error":"#REF!"}},{"$f":"#REF!","v":{"$error":"#REF!"}},{"$f":"#REF!","v":{"$error":"#REF!"}},{"$f":"IF(AND($F13>=Workings!$R$2,'Extract Expenses'!$F13<=Workings!$S$2),Workings!$Q$2,IF(AND($F13>=Workings!$R$3,'Extract Expenses'!$F13<=Workings!$S$3),Workings!$Q$3,IF(AND($F13>=Workings!$R$4,'Extract Expenses'!$F13<=Workings!$S$4),Workings!$Q$4,IF(AND($F13>=Workings!$R$5,'Extract Expenses'!$F13<=Workings!$S$5),Workings!$Q$5,IF(AND($F13>=Workings!$R$6,'Extract Expenses'!$F13<=Workings!$S$6),Workings!$Q$6,IF(AND($F13>=Workings!$R$7,'Extract Expenses'!$F13<=Workings!$S$7),Workings!$Q$7,IF(AND($F13>=Workings!$R$8,'Extract Expenses'!$F13<=Workings!$S$8),Workings!$Q$8,IF(AND($F13>=Workings!$R$9,'Extract Expenses'!$F13<=Workings!$S$9),Workings!$Q$9))))))))","v":{"$error":"#REF!"}},{"$f":"VLOOKUP(MONTH(F13),Workings!N:O,2,0)","v":{"$error":"#REF!"}},{"$f":"#REF!","v":{"$error":"#REF!"}},{"$f":"#REF!","v":{"$error":"#REF!"}},{"$f":"#REF!","v":{"$error":"#REF!"}},{"$f":"#REF!","v":{"$error":"#REF!"}}]
[{"$f":"#REF!","v":{"$error":"#REF!"}},{"$f":"#REF!","v":{"$error":"#REF!"}},{"$f":"#REF!","v":{"$error":"#REF!"}},{"$f":"#REF!","v":{"$error":"#REF!"}},{"$f":"#REF!","v":{"$error":"#REF!"}},{"$f":"#REF!","v":{"$error":"#REF!"}},{"$f":"IF(AND($F14>=Workings!$R$2,'Extract Expenses'!$F14<=Workings!$S$2),Workings!$Q$2,IF(AND($F14>=Workings!$R$3,'Extract Expenses'!$F14<=Workings!$S$3),Workings!$Q$3,IF(AND($F14>=Workings!$R$4,'Extract Expenses'!$F14<=Workings!$S$4),Workings!$Q$4,IF(AND($F14>=Workings!$R$5,'Extract Expenses'!$F14<=Workings!$S$5),Workings!$Q$5,IF(AND($F14>=Workings!$R$6,'Extract Expenses'!$F14<=Workings!$S$6),Workings!$Q$6,IF(AND($F14>=Workings!$R$7,'Extract Expenses'!$F14<=Workings!$S$7),Workings!$Q$7,IF(AND($F14>=Workings!$R$8,'Extract Expenses'!$F14<=Workings!$S$8),Workings!$Q$8,IF(AND($F14>=Workings!$R$9,'Extract Expenses'!$F14<=Workings!$S$9),Workings!$Q$9))))))))","v":{"$error":"#REF!"}},{"$f":"VLOOKUP(MONTH(F14),Workings!N:O,2,0)","v":{"$error":"#REF!"}},{"$f":"#REF!","v":{"$error":"#REF!"}},{"$f":"#REF!","v":{"$error":"#REF!"}},{"$f":"#REF!","v":{"$error":"#REF!"}},{"$f":"#REF!","v":{"$error":"#REF!"}}]
[{"$f":"#REF!","v":{"$error":"#REF!"}},{"$f":"#REF!","v":{"$error":"#REF!"}},{"$f":"#REF!","v":{"$error":"#REF!"}},{"$f":"#REF!","v":{"$error":"#REF!"}},{"$f":"#REF!","v":{"$error":"#REF!"}},{"$f":"#REF!","v":{"$error":"#REF!"}},{"$f":"IF(AND($F15>=Workings!$R$2,'Extract Expenses'!$F15<=Workings!$S$2),Workings!$Q$2,IF(AND($F15>=Workings!$R$3,'Extract Expenses'!$F15<=Workings!$S$3),Workings!$Q$3,IF(AND($F15>=Workings!$R$4,'Extract Expenses'!$F15<=Workings!$S$4),Workings!$Q$4,IF(AND($F15>=Workings!$R$5,'Extract Expenses'!$F15<=Workings!$S$5),Workings!$Q$5,IF(AND($F15>=Workings!$R$6,'Extract Expenses'!$F15<=Workings!$S$6),Workings!$Q$6,IF(AND($F15>=Workings!$R$7,'Extract Expenses'!$F15<=Workings!$S$7),Workings!$Q$7,IF(AND($F15>=Workings!$R$8,'Extract Expenses'!$F15<=Workings!$S$8),Workings!$Q$8,IF(AND($F15>=Workings!$R$9,'Extract Expenses'!$F15<=Workings!$S$9),Workings!$Q$9))))))))","v":{"$error":"#REF!"}},{"$f":"VLOOKUP(MONTH(F15),Workings!N:O,2,0)","v":{"$error":"#REF!"}},{"$f":"#REF!","v":{"$error":"#REF!"}},{"$f":"#REF!","v":{"$error":"#REF!"}},{"$f":"#REF!","v":{"$error":"#REF!"}},{"$f":"#REF!","v":{"$error":"#REF!"}}]
[{"$f":"#REF!","v":{"$error":"#REF!"}},{"$f":"#REF!","v":{"$error":"#REF!"}},{"$f":"#REF!","v":{"$error":"#REF!"}},{"$f":"#REF!","v":{"$error":"#REF!"}},{"$f":"#REF!","v":{"$error":"#REF!"}},{"$f":"#REF!","v":{"$error":"#REF!"}},{"$f":"IF(AND($F16>=Workings!$R$2,'Extract Expenses'!$F16<=Workings!$S$2),Workings!$Q$2,IF(AND($F16>=Workings!$R$3,'Extract Expenses'!$F16<=Workings!$S$3),Workings!$Q$3,IF(AND($F16>=Workings!$R$4,'Extract Expenses'!$F16<=Workings!$S$4),Workings!$Q$4,IF(AND($F16>=Workings!$R$5,'Extract Expenses'!$F16<=Workings!$S$5),Workings!$Q$5,IF(AND($F16>=Workings!$R$6,'Extract Expenses'!$F16<=Workings!$S$6),Workings!$Q$6,IF(AND($F16>=Workings!$R$7,'Extract Expenses'!$F16<=Workings!$S$7),Workings!$Q$7,IF(AND($F16>=Workings!$R$8,'Extract Expenses'!$F16<=Workings!$S$8),Workings!$Q$8,IF(AND($F16>=Workings!$R$9,'Extract Expenses'!$F16<=Workings!$S$9),Workings!$Q$9))))))))","v":{"$error":"#REF!"}},{"$f":"VLOOKUP(MONTH(F16),Workings!N:O,2,0)","v":{"$error":"#REF!"}},{"$f":"#REF!","v":{"$error":"#REF!"}},{"$f":"#REF!","v":{"$error":"#REF!"}},{"$f":"#REF!","v":{"$error":"#REF!"}},{"$f":"#REF!","v":{"$error":"#REF!"}}]

{"sheet":"Extract Mileage","index":5,"n_rows":11,"n_cols":13,"rows_kept":11,"cut":false,"hidden":true,"merged":[]}
["Vendor ","Day rate","Ref no:","Submission date","CO sig date","AO sig date","Fin Year","Fin Period","Mileage Date","No. of miles","Notes","Rate per mile","Amount"]
[{"$f":"#REF!","v":{"$error":"#REF!"}},{"$f":"#REF!","v":{"$error":"#REF!"}},{"$f":"#REF!","v":{"$error":"#REF!"}},{"$f":"#REF!","v":{"$error":"#REF!"}},{"$f":"#REF!","v":{"$error":"#REF!"}},{"$f":"#REF!","v":{"$error":"#REF!"}},{"$f":"IF(AND($F2>=Workings!$R$2,'Extract Mileage'!$F2<=Workings!$S$2),Workings!$Q$2,IF(AND($F2>=Workings!$R$3,'Extract Mileage'!$F2<=Workings!$S$3),Workings!$Q$3,IF(AND($F2>=Workings!$R$4,'Extract Mileage'!$F2<=Workings!$S$4),Workings!$Q$4,IF(AND($F2>=Workings!$R$5,'Extract Mileage'!$F2<=Workings!$S$5),Workings!$Q$5,IF(AND($F2>=Workings!$R$6,'Extract Mileage'!$F2<=Workings!$S$6),Workings!$Q$6,IF(AND($F2>=Workings!$R$7,'Extract Mileage'!$F2<=Workings!$S$7),Workings!$Q$7,IF(AND($F2>=Workings!$R$8,'Extract Mileage'!$F2<=Workings!$S$8),Workings!$Q$8,IF(AND($F2>=Workings!$R$9,'Extract Mileage'!$F2<=Workings!$S$9),Workings!$Q$9))))))))","v":{"$error":"#REF!"}},{"$f":"VLOOKUP(MONTH(F2),Workings!N:O,2,0)","v":{"$error":"#REF!"}},{"$f":"#REF!","v":{"$error":"#REF!"}},{"$f":"#REF!","v":{"$error":"#REF!"}},{"$f":"#REF!","v":{"$error":"#REF!"}},{"$f":"#REF!","v":{"$error":"#REF!"}},{"$f":"#REF!","v":{"$error":"#REF!"}}]
[{"$f":"#REF!","v":{"$error":"#REF!"}},{"$f":"#REF!","v":{"$error":"#REF!"}},{"$f":"#REF!","v":{"$error":"#REF!"}},{"$f":"#REF!","v":{"$error":"#REF!"}},{"$f":"#REF!","v":{"$error":"#REF!"}},{"$f":"#REF!","v":{"$error":"#REF!"}},{"$f":"IF(AND($F3>=Workings!$R$2,'Extract Mileage'!$F3<=Workings!$S$2),Workings!$Q$2,IF(AND($F3>=Workings!$R$3,'Extract Mileage'!$F3<=Workings!$S$3),Workings!$Q$3,IF(AND($F3>=Workings!$R$4,'Extract Mileage'!$F3<=Workings!$S$4),Workings!$Q$4,IF(AND($F3>=Workings!$R$5,'Extract Mileage'!$F3<=Workings!$S$5),Workings!$Q$5,IF(AND($F3>=Workings!$R$6,'Extract Mileage'!$F3<=Workings!$S$6),Workings!$Q$6,IF(AND($F3>=Workings!$R$7,'Extract Mileage'!$F3<=Workings!$S$7),Workings!$Q$7,IF(AND($F3>=Workings!$R$8,'Extract Mileage'!$F3<=Workings!$S$8),Workings!$Q$8,IF(AND($F3>=Workings!$R$9,'Extract Mileage'!$F3<=Workings!$S$9),Workings!$Q$9))))))))","v":{"$error":"#REF!"}},{"$f":"VLOOKUP(MONTH(F3),Workings!N:O,2,0)","v":{"$error":"#REF!"}},{"$f":"#REF!","v":{"$error":"#REF!"}},{"$f":"#REF!","v":{"$error":"#REF!"}},{"$f":"#REF!","v":{"$error":"#REF!"}},{"$f":"#REF!","v":{"$error":"#REF!"}},{"$f":"#REF!","v":{"$error":"#REF!"}}]
[{"$f":"#REF!","v":{"$error":"#REF!"}},{"$f":"#REF!","v":{"$error":"#REF!"}},{"$f":"#REF!","v":{"$error":"#REF!"}},{"$f":"#REF!","v":{"$error":"#REF!"}},{"$f":"#REF!","v":{"$error":"#REF!"}},{"$f":"#REF!","v":{"$error":"#REF!"}},{"$f":"IF(AND($F4>=Workings!$R$2,'Extract Mileage'!$F4<=Workings!$S$2),Workings!$Q$2,IF(AND($F4>=Workings!$R$3,'Extract Mileage'!$F4<=Workings!$S$3),Workings!$Q$3,IF(AND($F4>=Workings!$R$4,'Extract Mileage'!$F4<=Workings!$S$4),Workings!$Q$4,IF(AND($F4>=Workings!$R$5,'Extract Mileage'!$F4<=Workings!$S$5),Workings!$Q$5,IF(AND($F4>=Workings!$R$6,'Extract Mileage'!$F4<=Workings!$S$6),Workings!$Q$6,IF(AND($F4>=Workings!$R$7,'Extract Mileage'!$F4<=Workings!$S$7),Workings!$Q$7,IF(AND($F4>=Workings!$R$8,'Extract Mileage'!$F4<=Workings!$S$8),Workings!$Q$8,IF(AND($F4>=Workings!$R$9,'Extract Mileage'!$F4<=Workings!$S$9),Workings!$Q$9))))))))","v":{"$error":"#REF!"}},{"$f":"VLOOKUP(MONTH(F4),Workings!N:O,2,0)","v":{"$error":"#REF!"}},{"$f":"#REF!","v":{"$error":"#REF!"}},{"$f":"#REF!","v":{"$error":"#REF!"}},{"$f":"#REF!","v":{"$error":"#REF!"}},{"$f":"#REF!","v":{"$error":"#REF!"}},{"$f":"#REF!","v":{"$error":"#REF!"}}]
[{"$f":"#REF!","v":{"$error":"#REF!"}},{"$f":"#REF!","v":{"$error":"#REF!"}},{"$f":"#REF!","v":{"$error":"#REF!"}},{"$f":"#REF!","v":{"$error":"#REF!"}},{"$f":"#REF!","v":{"$error":"#REF!"}},{"$f":"#REF!","v":{"$error":"#REF!"}},{"$f":"IF(AND($F5>=Workings!$R$2,'Extract Mileage'!$F5<=Workings!$S$2),Workings!$Q$2,IF(AND($F5>=Workings!$R$3,'Extract Mileage'!$F5<=Workings!$S$3),Workings!$Q$3,IF(AND($F5>=Workings!$R$4,'Extract Mileage'!$F5<=Workings!$S$4),Workings!$Q$4,IF(AND($F5>=Workings!$R$5,'Extract Mileage'!$F5<=Workings!$S$5),Workings!$Q$5,IF(AND($F5>=Workings!$R$6,'Extract Mileage'!$F5<=Workings!$S$6),Workings!$Q$6,IF(AND($F5>=Workings!$R$7,'Extract Mileage'!$F5<=Workings!$S$7),Workings!$Q$7,IF(AND($F5>=Workings!$R$8,'Extract Mileage'!$F5<=Workings!$S$8),Workings!$Q$8,IF(AND($F5>=Workings!$R$9,'Extract Mileage'!$F5<=Workings!$S$9),Workings!$Q$9))))))))","v":{"$error":"#REF!"}},{"$f":"VLOOKUP(MONTH(F5),Workings!N:O,2,0)","v":{"$error":"#REF!"}},{"$f":"#REF!","v":{"$error":"#REF!"}},{"$f":"#REF!","v":{"$error":"#REF!"}},{"$f":"#REF!","v":{"$error":"#REF!"}},{"$f":"#REF!","v":{"$error":"#REF!"}},{"$f":"#REF!","v":{"$error":"#REF!"}}]
[{"$f":"#REF!","v":{"$error":"#REF!"}},{"$f":"#REF!","v":{"$error":"#REF!"}},{"$f":"#REF!","v":{"$error":"#REF!"}},{"$f":"#REF!","v":{"$error":"#REF!"}},{"$f":"#REF!","v":{"$error":"#REF!"}},{"$f":"#REF!","v":{"$error":"#REF!"}},{"$f":"IF(AND($F6>=Workings!$R$2,'Extract Mileage'!$F6<=Workings!$S$2),Workings!$Q$2,IF(AND($F6>=Workings!$R$3,'Extract Mileage'!$F6<=Workings!$S$3),Workings!$Q$3,IF(AND($F6>=Workings!$R$4,'Extract Mileage'!$F6<=Workings!$S$4),Workings!$Q$4,IF(AND($F6>=Workings!$R$5,'Extract Mileage'!$F6<=Workings!$S$5),Workings!$Q$5,IF(AND($F6>=Workings!$R$6,'Extract Mileage'!$F6<=Workings!$S$6),Workings!$Q$6,IF(AND($F6>=Workings!$R$7,'Extract Mileage'!$F6<=Workings!$S$7),Workings!$Q$7,IF(AND($F6>=Workings!$R$8,'Extract Mileage'!$F6<=Workings!$S$8),Workings!$Q$8,IF(AND($F6>=Workings!$R$9,'Extract Mileage'!$F6<=Workings!$S$9),Workings!$Q$9))))))))","v":{"$error":"#REF!"}},{"$f":"VLOOKUP(MONTH(F6),Workings!N:O,2,0)","v":{"$error":"#REF!"}},{"$f":"#REF!","v":{"$error":"#REF!"}},{"$f":"#REF!","v":{"$error":"#REF!"}},{"$f":"#REF!","v":{"$error":"#REF!"}},{"$f":"#REF!","v":{"$error":"#REF!"}},{"$f":"#REF!","v":{"$error":"#REF!"}}]
[{"$f":"#REF!","v":{"$error":"#REF!"}},{"$f":"#REF!","v":{"$error":"#REF!"}},{"$f":"#REF!","v":{"$error":"#REF!"}},{"$f":"#REF!","v":{"$error":"#REF!"}},{"$f":"#REF!","v":{"$error":"#REF!"}},{"$f":"#REF!","v":{"$error":"#REF!"}},{"$f":"IF(AND($F7>=Workings!$R$2,'Extract Mileage'!$F7<=Workings!$S$2),Workings!$Q$2,IF(AND($F7>=Workings!$R$3,'Extract Mileage'!$F7<=Workings!$S$3),Workings!$Q$3,IF(AND($F7>=Workings!$R$4,'Extract Mileage'!$F7<=Workings!$S$4),Workings!$Q$4,IF(AND($F7>=Workings!$R$5,'Extract Mileage'!$F7<=Workings!$S$5),Workings!$Q$5,IF(AND($F7>=Workings!$R$6,'Extract Mileage'!$F7<=Workings!$S$6),Workings!$Q$6,IF(AND($F7>=Workings!$R$7,'Extract Mileage'!$F7<=Workings!$S$7),Workings!$Q$7,IF(AND($F7>=Workings!$R$8,'Extract Mileage'!$F7<=Workings!$S$8),Workings!$Q$8,IF(AND($F7>=Workings!$R$9,'Extract Mileage'!$F7<=Workings!$S$9),Workings!$Q$9))))))))","v":{"$error":"#REF!"}},{"$f":"VLOOKUP(MONTH(F7),Workings!N:O,2,0)","v":{"$error":"#REF!"}},{"$f":"#REF!","v":{"$error":"#REF!"}},{"$f":"#REF!","v":{"$error":"#REF!"}},{"$f":"#REF!","v":{"$error":"#REF!"}},{"$f":"#REF!","v":{"$error":"#REF!"}},{"$f":"#REF!","v":{"$error":"#REF!"}}]
[{"$f":"#REF!","v":{"$error":"#REF!"}},{"$f":"#REF!","v":{"$error":"#REF!"}},{"$f":"#REF!","v":{"$error":"#REF!"}},{"$f":"#REF!","v":{"$error":"#REF!"}},{"$f":"#REF!","v":{"$error":"#REF!"}},{"$f":"#REF!","v":{"$error":"#REF!"}},{"$f":"IF(AND($F8>=Workings!$R$2,'Extract Mileage'!$F8<=Workings!$S$2),Workings!$Q$2,IF(AND($F8>=Workings!$R$3,'Extract Mileage'!$F8<=Workings!$S$3),Workings!$Q$3,IF(AND($F8>=Workings!$R$4,'Extract Mileage'!$F8<=Workings!$S$4),Workings!$Q$4,IF(AND($F8>=Workings!$R$5,'Extract Mileage'!$F8<=Workings!$S$5),Workings!$Q$5,IF(AND($F8>=Workings!$R$6,'Extract Mileage'!$F8<=Workings!$S$6),Workings!$Q$6,IF(AND($F8>=Workings!$R$7,'Extract Mileage'!$F8<=Workings!$S$7),Workings!$Q$7,IF(AND($F8>=Workings!$R$8,'Extract Mileage'!$F8<=Workings!$S$8),Workings!$Q$8,IF(AND($F8>=Workings!$R$9,'Extract Mileage'!$F8<=Workings!$S$9),Workings!$Q$9))))))))","v":{"$error":"#REF!"}},{"$f":"VLOOKUP(MONTH(F8),Workings!N:O,2,0)","v":{"$error":"#REF!"}},{"$f":"#REF!","v":{"$error":"#REF!"}},{"$f":"#REF!","v":{"$error":"#REF!"}},{"$f":"#REF!","v":{"$error":"#REF!"}},{"$f":"#REF!","v":{"$error":"#REF!"}},{"$f":"#REF!","v":{"$error":"#REF!"}}]
[{"$f":"#REF!","v":{"$error":"#REF!"}},{"$f":"#REF!","v":{"$error":"#REF!"}},{"$f":"#REF!","v":{"$error":"#REF!"}},{"$f":"#REF!","v":{"$error":"#REF!"}},{"$f":"#REF!","v":{"$error":"#REF!"}},{"$f":"#REF!","v":{"$error":"#REF!"}},{"$f":"IF(AND($F9>=Workings!$R$2,'Extract Mileage'!$F9<=Workings!$S$2),Workings!$Q$2,IF(AND($F9>=Workings!$R$3,'Extract Mileage'!$F9<=Workings!$S$3),Workings!$Q$3,IF(AND($F9>=Workings!$R$4,'Extract Mileage'!$F9<=Workings!$S$4),Workings!$Q$4,IF(AND($F9>=Workings!$R$5,'Extract Mileage'!$F9<=Workings!$S$5),Workings!$Q$5,IF(AND($F9>=Workings!$R$6,'Extract Mileage'!$F9<=Workings!$S$6),Workings!$Q$6,IF(AND($F9>=Workings!$R$7,'Extract Mileage'!$F9<=Workings!$S$7),Workings!$Q$7,IF(AND($F9>=Workings!$R$8,'Extract Mileage'!$F9<=Workings!$S$8),Workings!$Q$8,IF(AND($F9>=Workings!$R$9,'Extract Mileage'!$F9<=Workings!$S$9),Workings!$Q$9))))))))","v":{"$error":"#REF!"}},{"$f":"VLOOKUP(MONTH(F9),Workings!N:O,2,0)","v":{"$error":"#REF!"}},{"$f":"#REF!","v":{"$error":"#REF!"}},{"$f":"#REF!","v":{"$error":"#REF!"}},{"$f":"#REF!","v":{"$error":"#REF!"}},{"$f":"#REF!","v":{"$error":"#REF!"}},{"$f":"#REF!","v":{"$error":"#REF!"}}]
[{"$f":"#REF!","v":{"$error":"#REF!"}},{"$f":"#REF!","v":{"$error":"#REF!"}},{"$f":"#REF!","v":{"$error":"#REF!"}},{"$f":"#REF!","v":{"$error":"#REF!"}},{"$f":"#REF!","v":{"$error":"#REF!"}},{"$f":"#REF!","v":{"$error":"#REF!"}},{"$f":"IF(AND($F10>=Workings!$R$2,'Extract Mileage'!$F10<=Workings!$S$2),Workings!$Q$2,IF(AND($F10>=Workings!$R$3,'Extract Mileage'!$F10<=Workings!$S$3),Workings!$Q$3,IF(AND($F10>=Workings!$R$4,'Extract Mileage'!$F10<=Workings!$S$4),Workings!$Q$4,IF(AND($F10>=Workings!$R$5,'Extract Mileage'!$F10<=Workings!$S$5),Workings!$Q$5,IF(AND($F10>=Workings!$R$6,'Extract Mileage'!$F10<=Workings!$S$6),Workings!$Q$6,IF(AND($F10>=Workings!$R$7,'Extract Mileage'!$F10<=Workings!$S$7),Workings!$Q$7,IF(AND($F10>=Workings!$R$8,'Extract Mileage'!$F10<=Workings!$S$8),Workings!$Q$8,IF(AND($F10>=Workings!$R$9,'Extract Mileage'!$F10<=Workings!$S$9),Workings!$Q$9))))))))","v":{"$error":"#REF!"}},{"$f":"VLOOKUP(MONTH(F10),Workings!N:O,2,0)","v":{"$error":"#REF!"}},{"$f":"#REF!","v":{"$error":"#REF!"}},{"$f":"#REF!","v":{"$error":"#REF!"}},{"$f":"#REF!","v":{"$error":"#REF!"}},{"$f":"#REF!","v":{"$error":"#REF!"}},{"$f":"#REF!","v":{"$error":"#REF!"}}]
[{"$f":"#REF!","v":{"$error":"#REF!"}},{"$f":"#REF!","v":{"$error":"#REF!"}},{"$f":"#REF!","v":{"$error":"#REF!"}},{"$f":"#REF!","v":{"$error":"#REF!"}},{"$f":"#REF!","v":{"$error":"#REF!"}},{"$f":"#REF!","v":{"$error":"#REF!"}},{"$f":"IF(AND($F11>=Workings!$R$2,'Extract Mileage'!$F11<=Workings!$S$2),Workings!$Q$2,IF(AND($F11>=Workings!$R$3,'Extract Mileage'!$F11<=Workings!$S$3),Workings!$Q$3,IF(AND($F11>=Workings!$R$4,'Extract Mileage'!$F11<=Workings!$S$4),Workings!$Q$4,IF(AND($F11>=Workings!$R$5,'Extract Mileage'!$F11<=Workings!$S$5),Workings!$Q$5,IF(AND($F11>=Workings!$R$6,'Extract Mileage'!$F11<=Workings!$S$6),Workings!$Q$6,IF(AND($F11>=Workings!$R$7,'Extract Mileage'!$F11<=Workings!$S$7),Workings!$Q$7,IF(AND($F11>=Workings!$R$8,'Extract Mileage'!$F11<=Workings!$S$8),Workings!$Q$8,IF(AND($F11>=Workings!$R$9,'Extract Mileage'!$F11<=Workings!$S$9),Workings!$Q$9))))))))","v":{"$error":"#REF!"}},{"$f":"VLOOKUP(MONTH(F11),Workings!N:O,2,0)","v":{"$error":"#REF!"}},{"$f":"#REF!","v":{"$error":"#REF!"}},{"$f":"#REF!","v":{"$error":"#REF!"}},{"$f":"#REF!","v":{"$error":"#REF!"}},{"$f":"#REF!","v":{"$error":"#REF!"}},{"$f":"#REF!","v":{"$error":"#REF!"}}]

{"sheet":"Standards","index":6,"n_rows":76,"n_cols":1,"rows_kept":76,"cut":false,"hidden":true,"merged":[]}
["Qualification"]
["0143-02 Level 2 Golf Greenkeeping - Full Apprenticeship Package"]
["3817-22 Level 3 Operational Delivery Officer - End-point Assessment"]
["6090-50 Level 3 End-point assessment for ST0322/02 Refrigeration air conditioning and heat pump engineering technician"]
["7002-52 Level 2 Diploma for Hair Professionals - Hairdressing (End-Point Assessment - with centre venue)"]
["7002-53 Level 2 Diploma for Hair Professionals - Barbering (End-Point Assessment - with centre venue)"]
["7414-03 Level 3 Insurance Practitioner - End-point Assessment Only"]
["7414-04 Level 4 Insurance Professional - End-point Assessment Only"]
["7418-02 Level 2 Investment Operations Administrator - End-point Assessment Only"]
["7418-03 Level 3 Investment Operations Technician - End-point Assessment Only"]
["7418-04 Level 4 Investment Operations Specialist - End-point Assessment Only"]
["9040-12 Adult Care Worker - End-point Assessment"]
["9041-12 Level 2 Healthcare Support Worker - End-point Assessment"]
["9042-12 Lead Adult Care Worker - End-point Assessment"]
["9043-12 Level 3 Senior Healthcare Support Worker - Adult Nursing Support End- point Assessment"]
["9044-22 Level 2 End-point Assessment for ST0166/AP02 Equine Groom (Non-Riding)"]
["9044-32 Level 2 End-point Assessment for ST0166/AP02 Equine Groom (Racing - Exercising Groom)"]
["9044-42 Level 2 End-point Assessment for ST0166/AP02 Equine Groom (Racing - Yard Based Groom)"]
["9044-52 Level 2 End-point Assessment for ST0166/AP02 Equine Groom (Breeding)"]
["9056-12 Level 3 Travel Consultant - End-point Assessment"]
["9074-12 Gas Engineering - End-point Assessment"]
["9077-12 Level 2 Bricklayer End-point Assessment"]
["9078-12 Level 2 Carpentry and Joinery - End-point Assessment"]
["9081-12 Commis Chef - End Point Assessment"]
["9082-12 Senior Chef Production Cooking - End-Point Assessment"]
["9083-11 Hospitality Team Member - Food and Beverage Service End-Point Assessment"]
["9083-12 Hospitality Team Member - Alcohol Beverage Service End Point Assessment"]
["9083-14 Hospitality Team Member - Food Production End Point Assessment"]
["9084-31 Hospitality Supervisor - Food and Beverage Supervisor End-Point Assessment"]
["9084-33 Hospitality Supervisor - Bar Supervisor End-Point Assessment"]
["9084-36 Hospitality Supervisor - Events Supervisor End-Point Assessment"]
["9085-12 Chef de Partie - End Point Assessment"]
["9124-12 Level 2 End-point Assessment for Horticulture Operative"]
["9125-12 Level 2 End-point Assessment for Landscape Operative"]
["9126-12 Level 2 Arborist - End-point Assessment"]
["9127-12 Level 2 Forest Operative (Establishment and maintenance)"]
["9201-12 Level 2 End-point Assessment for Land-based Service Engineer (Agriculture)"]
["9201-22 Level 2 End-point Assessment for Land-based Service Engineer (Arboriculture and Forestry)"]
["9201-32 Level 2 End-point Assessment for Land-based Service Engineer (Ground Care)"]
["9201-42 Level 2 End-point Assessment for Land-based Service Engineer (Fixed Plant and Storage)"]
["9201-52 Level 2 End-point Assessment for Land-based Service Engineer (Construction Plant Maintenance)"]
["9221-12 Level 3 End-point Assessment for ST024/03 Land-based Service Engineering Technician (Agriculture)"]
["9221-22 Level 3 End-point Assessment for ST0243/03 Land-based Service Engineering Technician (Arboriculture and Forestry)"]
["9221-32 Level 3 End-point Assessment for ST0243/03 Land-based Service Engineering Technician (Ground Care)"]
["9221-42 Level 3 End-point Assessment for ST0243/03 Land-based Service Engineering Technician (Fixed Plant and Storage)"]
["9221-52 Level 3 End-point Assessment for ST0243/03 Land-based Service Engineering Technician (Construction Plant Maintenance)"]
["9301-12 Level 3 End-point Assessment for (ST0033/AP03) Automotive Retail Motor Vehicle Service and Maintenance Technician (Light Vehicle) (with City & Guilds venue)"]
["9301-13 Level 3 End-point Assessment for (ST0033/AP03) Automotive Retail Motor Vehicle Service and Maintenance Technician (Light Vehicle) (with centre venue)"]
["9302-12 Level 3 Heavy Vehicle Service and Maintenance Technician - End-point Assessment (with centre venue)"]
["9302-13 Level 3 Heavy Vehicle Service and Maintenance Technician - End-point Assessment (with City & Guilds venue)"]
["9303-12 Rail Engineering Operative End-point Assessment"]
["9304-12 Autocare Technician"]
["9306-12 Level 2 Retailer - End-point Assessment"]
["9307-12 Level 3 Retail Team Leader - End-point Assessment"]
["9308-12 Team Leader/Supervisor - End-point assessment"]
["9309-12 Operations/Departmental Manager - End-point assessment"]
["9310-12 Chartered Manager Degree Apprenticeship - End-point assessment"]
["9311-12 Senior Leader Master's Degree Apprenticeship - End-point assessment"]
["9320-12 Maintenance and Operations Engineering Technician"]
["9473-12 Level 3 Business Administrator - End-point assessment"]
["9494-12 Level 3 Customer Service Specialist End-point Assessment"]
["9576-12 Level 5 End-point Assessment for Healthcare Assistant Practitioner"]
["9648-71 Software Developer - End-point Assessment (without Virtual Assessment Service)"]
["9648-72 Network Engineer - End-point Assessment (without Virtual Assessment Service)"]
["9648-73 Level 3 Infrastructure Technician - End-point Assessment (without Virtual Assessment Service)"]
["9648-74 Digital Marketer - End-point Assessment (without Virtual Assessment Service)"]
["9660-12 Cyber Security Technologist End Point Assessment (without Virtual Assessment Service)"]
["9673-02 Property Maintenance Operative - End-point Assessment"]
["9674-01 Level 4 Actuarial Technician - End-point Assessment Only"]
["9752-12 Dental Nurse - End-point Assessment"]
["9790-71 Level 3 Unified Communications Technician Apprenticeship - End-Point Assessment (without Virtual Assessment Service)"]
["9794-12 Level 2 Customer Service Practitioner End-Point Assessment"]
["9752-12 Dental Nurse - End-point Assessment"]
["9790-71 Level 3 Unified Communications Technician Apprenticeship - End-Point Assessment (without Virtual Assessment Service)"]
["9794-02 Level 2 Customer Service Practitioner - End-point Assessment Only"]
["9794-12 Level 2 Customer Service Practitioner End-Point Assessment"]

{"sheet":"Workings","index":7,"n_rows":1001,"n_cols":19,"rows_kept":1001,"cut":false,"hidden":true,"merged":[]}
["SERIES",null,"Claim Number","Claim No. Code",null,"Component",null,"EPA Complete?",null,"Delivery method",null,"Day rates",null,"Month","Period"]
["*please select*",null,1,"0001",null,"Interview/Q&A",null,"Yes",null,"Face to face",null,250,null,1,5,null,2017,"2016-09-01","2017-08-31"]
["10252 (Apprenticeships)",null,2,"0002",null,"Structured meeting",null,null,null,"Remote",null,275,null,2,6,null,2018,"2017-09-01","2018-08-31"]
[null,null,3,"0003",null,"Portfolio/log book review",null,null,null,"Face to face - resit",null,300,null,3,7,null,2019,"2018-09-01","2019-08-31"]
["Earliest activity date",null,4,"0004",null,"Practical observation",null,null,null,"Remote - resit",null,325,null,4,8,null,2020,"2019-09-01","2020-08-31"]
[{"$f":"TODAY()-121","v":"2019-11-06"},null,5,"0005",null,"Professional discussion",null,null,null,null,null,350,null,5,9,null,2021,"2020-09-01","2021-08-31"]
["Latest activity date",null,6,"0006",null,"Professional review",null,null,null,null,null,370,null,6,10,null,2022,"2021-09-01","2022-08-31"]
[{"$f":"TODAY()+31","v":"2020-04-06"},null,7,"0007",null,null,null,null,null,null,null,400,null,7,11,null,2023,"2022-09-01","2023-08-31"]
[null,null,8,"0008",null,null,null,null,null,null,null,450,null,8,12,null,2024,"2023-09-01","2024-08-31"]
["Type of expense claim",null,9,"0009",null,null,null,null,null,null,null,null,null,9,1,null,2025,"2024-09-01","2025-08-31"]
["Train",null,10,"0010",null,null,null,null,null,null,null,null,null,10,2]
["Parking",null,11,"0011",null,null,null,null,null,null,null,null,null,11,3]
["Accomodation",null,12,"0012",null,null,null,null,null,null,null,null,null,12,4]
["Subsistence",null,13,"0013"]
["Taxis",null,14,"0014"]
["Other (e.g tube)",null,15,"0015"]
[null,null,16,"0016"]
[null,null,17,"0017"]
[null,null,18,"0018"]
[null,null,19,"0019"]
[null,null,20,"0020"]
[null,null,21,"0021"]
[null,null,22,"0022"]
[null,null,23,"0023"]
[null,null,24,"0024"]
[null,null,25,"0025"]
[null,null,26,"0026"]
[null,null,27,"0027"]
[null,null,28,"0028"]
[null,null,29,"0029"]
[null,null,30,"0030"]
[null,null,31,"0031"]
[null,null,32,"0032"]
[null,null,33,"0033"]
[null,null,34,"0034"]
[null,null,35,"0035"]
[null,null,36,"0036"]
[null,null,37,"0037"]
[null,null,38,"0038"]
[null,null,39,"0039"]
[null,null,40,"0040"]
[null,null,41,"0041"]
[null,null,42,"0042"]
[null,null,43,"0043"]
[null,null,44,"0044"]
[null,null,45,"0045"]
[null,null,46,"0046"]
[null,null,47,"0047"]
[null,null,48,"0048"]
[null,null,49,"0049"]
[null,null,50,"0050"]
[null,null,51,"0051"]
[null,null,52,"0052"]
[null,null,53,"0053"]
[null,null,54,"0054"]
[null,null,55,"0055"]
[null,null,56,"0056"]
[null,null,57,"0057"]
[null,null,58,"0058"]
[null,null,59,"0059"]
[null,null,60,"0060"]
[null,null,61,"0061"]
[null,null,62,"0062"]
[null,null,63,"0063"]
[null,null,64,"0064"]
[null,null,65,"0065"]
[null,null,66,"0066"]
[null,null,67,"0067"]
[null,null,68,"0068"]
[null,null,69,"0069"]
[null,null,70,"0070"]
[null,null,71,"0071"]
[null,null,72,"0072"]
[null,null,73,"0073"]
[null,null,74,"0074"]
[null,null,75,"0075"]
[null,null,76,"0076"]
[null,null,77,"0077"]
[null,null,78,"0078"]
[null,null,79,"0079"]
[null,null,80,"0080"]
[null,null,81,"0081"]
[null,null,82,"0082"]
[null,null,83,"0083"]
[null,null,84,"0084"]
[null,null,85,"0085"]
[null,null,86,"0086"]
[null,null,87,"0087"]
[null,null,88,"0088"]
[null,null,89,"0089"]
[null,null,90,"0090"]
[null,null,91,"0091"]
[null,null,92,"0092"]
[null,null,93,"0093"]
[null,null,94,"0094"]
[null,null,95,"0095"]
[null,null,96,"0096"]
[null,null,97,"0097"]
[null,null,98,"0098"]
[null,null,99,"0099"]
[null,null,100,"0100"]
[null,null,101,"0101"]
[null,null,102,"0102"]
[null,null,103,"0103"]
[null,null,104,"0104"]
[null,null,105,"0105"]
[null,null,106,"0106"]
[null,null,107,"0107"]
[null,null,108,"0108"]
[null,null,109,"0109"]
[null,null,110,"0110"]
[null,null,111,"0111"]
[null,null,112,"0112"]
[null,null,113,"0113"]
[null,null,114,"0114"]
[null,null,115,"0115"]
[null,null,116,"0116"]
[null,null,117,"0117"]
[null,null,118,"0118"]
[null,null,119,"0119"]
[null,null,120,"0120"]
[null,null,121,"0121"]
[null,null,122,"0122"]
[null,null,123,"0123"]
[null,null,124,"0124"]
[null,null,125,"0125"]
[null,null,126,"0126"]
[null,null,127,"0127"]
[null,null,128,"0128"]
[null,null,129,"0129"]
[null,null,130,"0130"]
[null,null,131,"0131"]
[null,null,132,"0132"]
[null,null,133,"0133"]
[null,null,134,"0134"]
[null,null,135,"0135"]
[null,null,136,"0136"]
[null,null,137,"0137"]
[null,null,138,"0138"]
[null,null,139,"0139"]
[null,null,140,"0140"]
[null,null,141,"0141"]
[null,null,142,"0142"]
[null,null,143,"0143"]
[null,null,144,"0144"]
[null,null,145,"0145"]
[null,null,146,"0146"]
[null,null,147,"0147"]
[null,null,148,"0148"]
[null,null,149,"0149"]
[null,null,150,"0150"]
[null,null,151,"0151"]
[null,null,152,"0152"]
[null,null,153,"0153"]
[null,null,154,"0154"]
[null,null,155,"0155"]
[null,null,156,"0156"]
[null,null,157,"0157"]
[null,null,158,"0158"]
[null,null,159,"0159"]
[null,null,160,"0160"]
[null,null,161,"0161"]
[null,null,162,"0162"]
[null,null,163,"0163"]
[null,null,164,"0164"]
[null,null,165,"0165"]
[null,null,166,"0166"]
[null,null,167,"0167"]
[null,null,168,"0168"]
[null,null,169,"0169"]
[null,null,170,"0170"]
[null,null,171,"0171"]
[null,null,172,"0172"]
[null,null,173,"0173"]
[null,null,174,"0174"]
[null,null,175,"0175"]
[null,null,176,"0176"]
[null,null,177,"0177"]
[null,null,178,"0178"]
[null,null,179,"0179"]
[null,null,180,"0180"]
[null,null,181,"0181"]
[null,null,182,"0182"]
[null,null,183,"0183"]
[null,null,184,"0184"]
[null,null,185,"0185"]
[null,null,186,"0186"]
[null,null,187,"0187"]
[null,null,188,"0188"]
[null,null,189,"0189"]
[null,null,190,"0190"]
[null,null,191,"0191"]
[null,null,192,"0192"]
[null,null,193,"0193"]
[null,null,194,"0194"]
[null,null,195,"0195"]
[null,null,196,"0196"]
[null,null,197,"0197"]
[null,null,198,"0198"]
[null,null,199,"0199"]
[null,null,200,"0200"]
[null,null,201,"0201"]
[null,null,202,"0202"]
[null,null,203,"0203"]
[null,null,204,"0204"]
[null,null,205,"0205"]
[null,null,206,"0206"]
[null,null,207,"0207"]
[null,null,208,"0208"]
[null,null,209,"0209"]
[null,null,210,"0210"]
[null,null,211,"0211"]
[null,null,212,"0212"]
[null,null,213,"0213"]
[null,null,214,"0214"]
[null,null,215,"0215"]
[null,null,216,"0216"]
[null,null,217,"0217"]
[null,null,218,"0218"]
[null,null,219,"0219"]
[null,null,220,"0220"]
[null,null,221,"0221"]
[null,null,222,"0222"]
[null,null,223,"0223"]
[null,null,224,"0224"]
[null,null,225,"0225"]
[null,null,226,"0226"]
[null,null,227,"0227"]
[null,null,228,"0228"]
[null,null,229,"0229"]
[null,null,230,"0230"]
[null,null,231,"0231"]
[null,null,232,"0232"]
[null,null,233,"0233"]
[null,null,234,"0234"]
[null,null,235,"0235"]
[null,null,236,"0236"]
[null,null,237,"0237"]
[null,null,238,"0238"]
[null,null,239,"0239"]
[null,null,240,"0240"]
[null,null,241,"0241"]
[null,null,242,"0242"]
[null,null,243,"0243"]
[null,null,244,"0244"]
[null,null,245,"0245"]
[null,null,246,"0246"]
[null,null,247,"0247"]
[null,null,248,"0248"]
[null,null,249,"0249"]
[null,null,250,"0250"]
[null,null,251,"0251"]
[null,null,252,"0252"]
[null,null,253,"0253"]
[null,null,254,"0254"]
[null,null,255,"0255"]
[null,null,256,"0256"]
[null,null,257,"0257"]
[null,null,258,"0258"]
[null,null,259,"0259"]
[null,null,260,"0260"]
[null,null,261,"0261"]
[null,null,262,"0262"]
[null,null,263,"0263"]
[null,null,264,"0264"]
[null,null,265,"0265"]
[null,null,266,"0266"]
[null,null,267,"0267"]
[null,null,268,"0268"]
[null,null,269,"0269"]
[null,null,270,"0270"]
[null,null,271,"0271"]
[null,null,272,"0272"]
[null,null,273,"0273"]
[null,null,274,"0274"]
[null,null,275,"0275"]
[null,null,276,"0276"]
[null,null,277,"0277"]
[null,null,278,"0278"]
[null,null,279,"0279"]
[null,null,280,"0280"]
[null,null,281,"0281"]
[null,null,282,"0282"]
[null,null,283,"0283"]
[null,null,284,"0284"]
[null,null,285,"0285"]
[null,null,286,"0286"]
[null,null,287,"0287"]
[null,null,288,"0288"]
[null,null,289,"0289"]
[null,null,290,"0290"]
[null,null,291,"0291"]
[null,null,292,"0292"]
[null,null,293,"0293"]
[null,null,294,"0294"]
[null,null,295,"0295"]
[null,null,296,"0296"]
[null,null,297,"0297"]
[null,null,298,"0298"]
[null,null,299,"0299"]
[null,null,300,"0300"]
[null,null,301,"0301"]
[null,null,302,"0302"]
[null,null,303,"0303"]
[null,null,304,"0304"]
[null,null,305,"0305"]
[null,null,306,"0306"]
[null,null,307,"0307"]
[null,null,308,"0308"]
[null,null,309,"0309"]
[null,null,310,"0310"]
[null,null,311,"0311"]
[null,null,312,"0312"]
[null,null,313,"0313"]
[null,null,314,"0314"]
[null,null,315,"0315"]
[null,null,316,"0316"]
[null,null,317,"0317"]
[null,null,318,"0318"]
[null,null,319,"0319"]
[null,null,320,"0320"]
[null,null,321,"0321"]
[null,null,322,"0322"]
[null,null,323,"0323"]
[null,null,324,"0324"]
[null,null,325,"0325"]
[null,null,326,"0326"]
[null,null,327,"0327"]
[null,null,328,"0328"]
[null,null,329,"0329"]
[null,null,330,"0330"]
[null,null,331,"0331"]
[null,null,332,"0332"]
[null,null,333,"0333"]
[null,null,334,"0334"]
[null,null,335,"0335"]
[null,null,336,"0336"]
[null,null,337,"0337"]
[null,null,338,"0338"]
[null,null,339,"0339"]
[null,null,340,"0340"]
[null,null,341,"0341"]
[null,null,342,"0342"]
[null,null,343,"0343"]
[null,null,344,"0344"]
[null,null,345,"0345"]
[null,null,346,"0346"]
[null,null,347,"0347"]
[null,null,348,"0348"]
[null,null,349,"0349"]
[null,null,350,"0350"]
[null,null,351,"0351"]
[null,null,352,"0352"]
[null,null,353,"0353"]
[null,null,354,"0354"]
[null,null,355,"0355"]
[null,null,356,"0356"]
[null,null,357,"0357"]
[null,null,358,"0358"]
[null,null,359,"0359"]
[null,null,360,"0360"]
[null,null,361,"0361"]
[null,null,362,"0362"]
[null,null,363,"0363"]
[null,null,364,"0364"]
[null,null,365,"0365"]
[null,null,366,"0366"]
[null,null,367,"0367"]
[null,null,368,"0368"]
[null,null,369,"0369"]
[null,null,370,"0370"]
[null,null,371,"0371"]
[null,null,372,"0372"]
[null,null,373,"0373"]
[null,null,374,"0374"]
[null,null,375,"0375"]
[null,null,376,"0376"]
[null,null,377,"0377"]
[null,null,378,"0378"]
[null,null,379,"0379"]
[null,null,380,"0380"]
[null,null,381,"0381"]
[null,null,382,"0382"]
[null,null,383,"0383"]
[null,null,384,"0384"]
[null,null,385,"0385"]
[null,null,386,"0386"]
[null,null,387,"0387"]
[null,null,388,"0388"]
[null,null,389,"0389"]
[null,null,390,"0390"]
[null,null,391,"0391"]
[null,null,392,"0392"]
[null,null,393,"0393"]
[null,null,394,"0394"]
[null,null,395,"0395"]
[null,null,396,"0396"]
[null,null,397,"0397"]
[null,null,398,"0398"]
[null,null,399,"0399"]
[null,null,400,"0400"]
[null,null,401,"0401"]
[null,null,402,"0402"]
[null,null,403,"0403"]
[null,null,404,"0404"]
[null,null,405,"0405"]
[null,null,406,"0406"]
[null,null,407,"0407"]
[null,null,408,"0408"]
[null,null,409,"0409"]
[null,null,410,"0410"]
[null,null,411,"0411"]
[null,null,412,"0412"]
[null,null,413,"0413"]
[null,null,414,"0414"]
[null,null,415,"0415"]
[null,null,416,"0416"]
[null,null,417,"0417"]
[null,null,418,"0418"]
[null,null,419,"0419"]
[null,null,420,"0420"]
[null,null,421,"0421"]
[null,null,422,"0422"]
[null,null,423,"0423"]
[null,null,424,"0424"]
[null,null,425,"0425"]
[null,null,426,"0426"]
[null,null,427,"0427"]
[null,null,428,"0428"]
[null,null,429,"0429"]
[null,null,430,"0430"]
[null,null,431,"0431"]
[null,null,432,"0432"]
[null,null,433,"0433"]
[null,null,434,"0434"]
[null,null,435,"0435"]
[null,null,436,"0436"]
[null,null,437,"0437"]
[null,null,438,"0438"]
[null,null,439,"0439"]
[null,null,440,"0440"]
[null,null,441,"0441"]
[null,null,442,"0442"]
[null,null,443,"0443"]
[null,null,444,"0444"]
[null,null,445,"0445"]
[null,null,446,"0446"]
[null,null,447,"0447"]
[null,null,448,"0448"]
[null,null,449,"0449"]
[null,null,450,"0450"]
[null,null,451,"0451"]
[null,null,452,"0452"]
[null,null,453,"0453"]
[null,null,454,"0454"]
[null,null,455,"0455"]
[null,null,456,"0456"]
[null,null,457,"0457"]
[null,null,458,"0458"]
[null,null,459,"0459"]
[null,null,460,"0460"]
[null,null,461,"0461"]
[null,null,462,"0462"]
[null,null,463,"0463"]
[null,null,464,"0464"]
[null,null,465,"0465"]
[null,null,466,"0466"]
[null,null,467,"0467"]
[null,null,468,"0468"]
[null,null,469,"0469"]
[null,null,470,"0470"]
[null,null,471,"0471"]
[null,null,472,"0472"]
[null,null,473,"0473"]
[null,null,474,"0474"]
[null,null,475,"0475"]
[null,null,476,"0476"]
[null,null,477,"0477"]
[null,null,478,"0478"]
[null,null,479,"0479"]
[null,null,480,"0480"]
[null,null,481,"0481"]
[null,null,482,"0482"]
[null,null,483,"0483"]
[null,null,484,"0484"]
[null,null,485,"0485"]
[null,null,486,"0486"]
[null,null,487,"0487"]
[null,null,488,"0488"]
[null,null,489,"0489"]
[null,null,490,"0490"]
[null,null,491,"0491"]
[null,null,492,"0492"]
[null,null,493,"0493"]
[null,null,494,"0494"]
[null,null,495,"0495"]
[null,null,496,"0496"]
[null,null,497,"0497"]
[null,null,498,"0498"]
[null,null,499,"0499"]
[null,null,500,"0500"]
[null,null,501,"0501"]
[null,null,502,"0502"]
[null,null,503,"0503"]
[null,null,504,"0504"]
[null,null,505,"0505"]
[null,null,506,"0506"]
[null,null,507,"0507"]
[null,null,508,"0508"]
[null,null,509,"0509"]
[null,null,510,"0510"]
[null,null,511,"0511"]
[null,null,512,"0512"]
[null,null,513,"0513"]
[null,null,514,"0514"]
[null,null,515,"0515"]
[null,null,516,"0516"]
[null,null,517,"0517"]
[null,null,518,"0518"]
[null,null,519,"0519"]
[null,null,520,"0520"]
[null,null,521,"0521"]
[null,null,522,"0522"]
[null,null,523,"0523"]
[null,null,524,"0524"]
[null,null,525,"0525"]
[null,null,526,"0526"]
[null,null,527,"0527"]
[null,null,528,"0528"]
[null,null,529,"0529"]
[null,null,530,"0530"]
[null,null,531,"0531"]
[null,null,532,"0532"]
[null,null,533,"0533"]
[null,null,534,"0534"]
[null,null,535,"0535"]
[null,null,536,"0536"]
[null,null,537,"0537"]
[null,null,538,"0538"]
[null,null,539,"0539"]
[null,null,540,"0540"]
[null,null,541,"0541"]
[null,null,542,"0542"]
[null,null,543,"0543"]
[null,null,544,"0544"]
[null,null,545,"0545"]
[null,null,546,"0546"]
[null,null,547,"0547"]
[null,null,548,"0548"]
[null,null,549,"0549"]
[null,null,550,"0550"]
[null,null,551,"0551"]
[null,null,552,"0552"]
[null,null,553,"0553"]
[null,null,554,"0554"]
[null,null,555,"0555"]
[null,null,556,"0556"]
[null,null,557,"0557"]
[null,null,558,"0558"]
[null,null,559,"0559"]
[null,null,560,"0560"]
[null,null,561,"0561"]
[null,null,562,"0562"]
[null,null,563,"0563"]
[null,null,564,"0564"]
[null,null,565,"0565"]
[null,null,566,"0566"]
[null,null,567,"0567"]
[null,null,568,"0568"]
[null,null,569,"0569"]
[null,null,570,"0570"]
[null,null,571,"0571"]
[null,null,572,"0572"]
[null,null,573,"0573"]
[null,null,574,"0574"]
[null,null,575,"0575"]
[null,null,576,"0576"]
[null,null,577,"0577"]
[null,null,578,"0578"]
[null,null,579,"0579"]
[null,null,580,"0580"]
[null,null,581,"0581"]
[null,null,582,"0582"]
[null,null,583,"0583"]
[null,null,584,"0584"]
[null,null,585,"0585"]
[null,null,586,"0586"]
[null,null,587,"0587"]
[null,null,588,"0588"]
[null,null,589,"0589"]
[null,null,590,"0590"]
[null,null,591,"0591"]
[null,null,592,"0592"]
[null,null,593,"0593"]
[null,null,594,"0594"]
[null,null,595,"0595"]
[null,null,596,"0596"]
[null,null,597,"0597"]
[null,null,598,"0598"]
[null,null,599,"0599"]
[null,null,600,"0600"]
[null,null,601,"0601"]
[null,null,602,"0602"]
[null,null,603,"0603"]
[null,null,604,"0604"]
[null,null,605,"0605"]
[null,null,606,"0606"]
[null,null,607,"0607"]
[null,null,608,"0608"]
[null,null,609,"0609"]
[null,null,610,"0610"]
[null,null,611,"0611"]
[null,null,612,"0612"]
[null,null,613,"0613"]
[null,null,614,"0614"]
[null,null,615,"0615"]
[null,null,616,"0616"]
[null,null,617,"0617"]
[null,null,618,"0618"]
[null,null,619,"0619"]
[null,null,620,"0620"]
[null,null,621,"0621"]
[null,null,622,"0622"]
[null,null,623,"0623"]
[null,null,624,"0624"]
[null,null,625,"0625"]
[null,null,626,"0626"]
[null,null,627,"0627"]
[null,null,628,"0628"]
[null,null,629,"0629"]
[null,null,630,"0630"]
[null,null,631,"0631"]
[null,null,632,"0632"]
[null,null,633,"0633"]
[null,null,634,"0634"]
[null,null,635,"0635"]
[null,null,636,"0636"]
[null,null,637,"0637"]
[null,null,638,"0638"]
[null,null,639,"0639"]
[null,null,640,"0640"]
[null,null,641,"0641"]
[null,null,642,"0642"]
[null,null,643,"0643"]
[null,null,644,"0644"]
[null,null,645,"0645"]
[null,null,646,"0646"]
[null,null,647,"0647"]
[null,null,648,"0648"]
[null,null,649,"0649"]
[null,null,650,"0650"]
[null,null,651,"0651"]
[null,null,652,"0652"]
[null,null,653,"0653"]
[null,null,654,"0654"]
[null,null,655,"0655"]
[null,null,656,"0656"]
[null,null,657,"0657"]
[null,null,658,"0658"]
[null,null,659,"0659"]
[null,null,660,"0660"]
[null,null,661,"0661"]
[null,null,662,"0662"]
[null,null,663,"0663"]
[null,null,664,"0664"]
[null,null,665,"0665"]
[null,null,666,"0666"]
[null,null,667,"0667"]
[null,null,668,"0668"]
[null,null,669,"0669"]
[null,null,670,"0670"]
[null,null,671,"0671"]
[null,null,672,"0672"]
[null,null,673,"0673"]
[null,null,674,"0674"]
[null,null,675,"0675"]
[null,null,676,"0676"]
[null,null,677,"0677"]
[null,null,678,"0678"]
[null,null,679,"0679"]
[null,null,680,"0680"]
[null,null,681,"0681"]
[null,null,682,"0682"]
[null,null,683,"0683"]
[null,null,684,"0684"]
[null,null,685,"0685"]
[null,null,686,"0686"]
[null,null,687,"0687"]
[null,null,688,"0688"]
[null,null,689,"0689"]
[null,null,690,"0690"]
[null,null,691,"0691"]
[null,null,692,"0692"]
[null,null,693,"0693"]
[null,null,694,"0694"]
[null,null,695,"0695"]
[null,null,696,"0696"]
[null,null,697,"0697"]
[null,null,698,"0698"]
[null,null,699,"0699"]
[null,null,700,"0700"]
[null,null,701,"0701"]
[null,null,702,"0702"]
[null,null,703,"0703"]
[null,null,704,"0704"]
[null,null,705,"0705"]
[null,null,706,"0706"]
[null,null,707,"0707"]
[null,null,708,"0708"]
[null,null,709,"0709"]
[null,null,710,"0710"]
[null,null,711,"0711"]
[null,null,712,"0712"]
[null,null,713,"0713"]
[null,null,714,"0714"]
[null,null,715,"0715"]
[null,null,716,"0716"]
[null,null,717,"0717"]
[null,null,718,"0718"]
[null,null,719,"0719"]
[null,null,720,"0720"]
[null,null,721,"0721"]
[null,null,722,"0722"]
[null,null,723,"0723"]
[null,null,724,"0724"]
[null,null,725,"0725"]
[null,null,726,"0726"]
[null,null,727,"0727"]
[null,null,728,"0728"]
[null,null,729,"0729"]
[null,null,730,"0730"]
[null,null,731,"0731"]
[null,null,732,"0732"]
[null,null,733,"0733"]
[null,null,734,"0734"]
[null,null,735,"0735"]
[null,null,736,"0736"]
[null,null,737,"0737"]
[null,null,738,"0738"]
[null,null,739,"0739"]
[null,null,740,"0740"]
[null,null,741,"0741"]
[null,null,742,"0742"]
[null,null,743,"0743"]
[null,null,744,"0744"]
[null,null,745,"0745"]
[null,null,746,"0746"]
[null,null,747,"0747"]
[null,null,748,"0748"]
[null,null,749,"0749"]
[null,null,750,"0750"]
[null,null,751,"0751"]
[null,null,752,"0752"]
[null,null,753,"0753"]
[null,null,754,"0754"]
[null,null,755,"0755"]
[null,null,756,"0756"]
[null,null,757,"0757"]
[null,null,758,"0758"]
[null,null,759,"0759"]
[null,null,760,"0760"]
[null,null,761,"0761"]
[null,null,762,"0762"]
[null,null,763,"0763"]
[null,null,764,"0764"]
[null,null,765,"0765"]
[null,null,766,"0766"]
[null,null,767,"0767"]
[null,null,768,"0768"]
[null,null,769,"0769"]
[null,null,770,"0770"]
[null,null,771,"0771"]
[null,null,772,"0772"]
[null,null,773,"0773"]
[null,null,774,"0774"]
[null,null,775,"0775"]
[null,null,776,"0776"]
[null,null,777,"0777"]
[null,null,778,"0778"]
[null,null,779,"0779"]
[null,null,780,"0780"]
[null,null,781,"0781"]
[null,null,782,"0782"]
[null,null,783,"0783"]
[null,null,784,"0784"]
[null,null,785,"0785"]
[null,null,786,"0786"]
[null,null,787,"0787"]
[null,null,788,"0788"]
[null,null,789,"0789"]
[null,null,790,"0790"]
[null,null,791,"0791"]
[null,null,792,"0792"]
[null,null,793,"0793"]
[null,null,794,"0794"]
[null,null,795,"0795"]
[null,null,796,"0796"]
[null,null,797,"0797"]
[null,null,798,"0798"]
[null,null,799,"0799"]
[null,null,800,"0800"]
[null,null,801,"0801"]
[null,null,802,"0802"]
[null,null,803,"0803"]
[null,null,804,"0804"]
[null,null,805,"0805"]
[null,null,806,"0806"]
[null,null,807,"0807"]
[null,null,808,"0808"]
[null,null,809,"0809"]
[null,null,810,"0810"]
[null,null,811,"0811"]
[null,null,812,"0812"]
[null,null,813,"0813"]
[null,null,814,"0814"]
[null,null,815,"0815"]
[null,null,816,"0816"]
[null,null,817,"0817"]
[null,null,818,"0818"]
[null,null,819,"0819"]
[null,null,820,"0820"]
[null,null,821,"0821"]
[null,null,822,"0822"]
[null,null,823,"0823"]
[null,null,824,"0824"]
[null,null,825,"0825"]
[null,null,826,"0826"]
[null,null,827,"0827"]
[null,null,828,"0828"]
[null,null,829,"0829"]
[null,null,830,"0830"]
[null,null,831,"0831"]
[null,null,832,"0832"]
[null,null,833,"0833"]
[null,null,834,"0834"]
[null,null,835,"0835"]
[null,null,836,"0836"]
[null,null,837,"0837"]
[null,null,838,"0838"]
[null,null,839,"0839"]
[null,null,840,"0840"]
[null,null,841,"0841"]
[null,null,842,"0842"]
[null,null,843,"0843"]
[null,null,844,"0844"]
[null,null,845,"0845"]
[null,null,846,"0846"]
[null,null,847,"0847"]
[null,null,848,"0848"]
[null,null,849,"0849"]
[null,null,850,"0850"]
[null,null,851,"0851"]
[null,null,852,"0852"]
[null,null,853,"0853"]
[null,null,854,"0854"]
[null,null,855,"0855"]
[null,null,856,"0856"]
[null,null,857,"0857"]
[null,null,858,"0858"]
[null,null,859,"0859"]
[null,null,860,"0860"]
[null,null,861,"0861"]
[null,null,862,"0862"]
[null,null,863,"0863"]
[null,null,864,"0864"]
[null,null,865,"0865"]
[null,null,866,"0866"]
[null,null,867,"0867"]
[null,null,868,"0868"]
[null,null,869,"0869"]
[null,null,870,"0870"]
[null,null,871,"0871"]
[null,null,872,"0872"]
[null,null,873,"0873"]
[null,null,874,"0874"]
[null,null,875,"0875"]
[null,null,876,"0876"]
[null,null,877,"0877"]
[null,null,878,"0878"]
[null,null,879,"0879"]
[null,null,880,"0880"]
[null,null,881,"0881"]
[null,null,882,"0882"]
[null,null,883,"0883"]
[null,null,884,"0884"]
[null,null,885,"0885"]
[null,null,886,"0886"]
[null,null,887,"0887"]
[null,null,888,"0888"]
[null,null,889,"0889"]
[null,null,890,"0890"]
[null,null,891,"0891"]
[null,null,892,"0892"]
[null,null,893,"0893"]
[null,null,894,"0894"]
[null,null,895,"0895"]
[null,null,896,"0896"]
[null,null,897,"0897"]
[null,null,898,"0898"]
[null,null,899,"0899"]
[null,null,900,"0900"]
[null,null,901,"0901"]
[null,null,902,"0902"]
[null,null,903,"0903"]
[null,null,904,"0904"]
[null,null,905,"0905"]
[null,null,906,"0906"]
[null,null,907,"0907"]
[null,null,908,"0908"]
[null,null,909,"0909"]
[null,null,910,"0910"]
[null,null,911,"0911"]
[null,null,912,"0912"]
[null,null,913,"0913"]
[null,null,914,"0914"]
[null,null,915,"0915"]
[null,null,916,"0916"]
[null,null,917,"0917"]
[null,null,918,"0918"]
[null,null,919,"0919"]
[null,null,920,"0920"]
[null,null,921,"0921"]
[null,null,922,"0922"]
[null,null,923,"0923"]
[null,null,924,"0924"]
[null,null,925,"0925"]
[null,null,926,"0926"]
[null,null,927,"0927"]
[null,null,928,"0928"]
[null,null,929,"0929"]
[null,null,930,"0930"]
[null,null,931,"0931"]
[null,null,932,"0932"]
[null,null,933,"0933"]
[null,null,934,"0934"]
[null,null,935,"0935"]
[null,null,936,"0936"]
[null,null,937,"0937"]
[null,null,938,"0938"]
[null,null,939,"0939"]
[null,null,940,"0940"]
[null,null,941,"0941"]
[null,null,942,"0942"]
[null,null,943,"0943"]
[null,null,944,"0944"]
[null,null,945,"0945"]
[null,null,946,"0946"]
[null,null,947,"0947"]
[null,null,948,"0948"]
[null,null,949,"0949"]
[null,null,950,"0950"]
[null,null,951,"0951"]
[null,null,952,"0952"]
[null,null,953,"0953"]
[null,null,954,"0954"]
[null,null,955,"0955"]
[null,null,956,"0956"]
[null,null,957,"0957"]
[null,null,958,"0958"]
[null,null,959,"0959"]
[null,null,960,"0960"]
[null,null,961,"0961"]
[null,null,962,"0962"]
[null,null,963,"0963"]
[null,null,964,"0964"]
[null,null,965,"0965"]
[null,null,966,"0966"]
[null,null,967,"0967"]
[null,null,968,"0968"]
[null,null,969,"0969"]
[null,null,970,"0970"]
[null,null,971,"0971"]
[null,null,972,"0972"]
[null,null,973,"0973"]
[null,null,974,"0974"]
[null,null,975,"0975"]
[null,null,976,"0976"]
[null,null,977,"0977"]
[null,null,978,"0978"]
[null,null,979,"0979"]
[null,null,980,"0980"]
[null,null,981,"0981"]
[null,null,982,"0982"]
[null,null,983,"0983"]
[null,null,984,"0984"]
[null,null,985,"0985"]
[null,null,986,"0986"]
[null,null,987,"0987"]
[null,null,988,"0988"]
[null,null,989,"0989"]
[null,null,990,"0990"]
[null,null,991,"0991"]
[null,null,992,"0992"]
[null,null,993,"0993"]
[null,null,994,"0994"]
[null,null,995,"0995"]
[null,null,996,"0996"]
[null,null,997,"0997"]
[null,null,998,"0998"]
[null,null,999,"0999"]
[null,null,1000,"1000"]